Workbook

Sheet 朝北地圖

Sheet A區
A1: 租借情形 | Q1: 更新之日期 | R1: 查詢下2個月 | S1: 下3個月 | T1: 下4個月
A2: 日期 | B2: 星期 | C2: A1 | D2: A2 | E2: A3 | F2: A4(測速器) | G2: A5 | H2: A6 | I2: A7 | J2: A8 | K2: A8-1 | L2: A9 | M2: A9-1 | N2: A10 | O2: A10-1 | P2: A10-2 | Q2: =TODAY() -> 46315 | R2: 查詢下個月 | S2: 返回開頭
A3: 46023 | B3: =A3 -> 46023
A4: 46024 | B4: =A4 -> 46024
A5: 46025 | B5: =A5 -> 46025
A6: 46026 | B6: =A6 -> 46026
A7: 46027 | B7: =A7 -> 46027
A8: 46028 | B8: =A8 -> 46028
A9: 46029 | B9: =A9 -> 46029
A10: 46030 | B10: =A10 -> 46030
A11: 46031 | B11: =A11 -> 46031
A12: 46032 | B12: =A12 -> 46032
A13: 46033 | B13: =A13 -> 46033
A14: 46034 | B14: =A14 -> 46034
... A58: 46078 | B58: =A58 -> 46078
A59: 46079 | B59: =A59 -> 46079 | G59: 化學系 | H59: 化學系 | I59: 化學系 | J59: 化學系
A60: 46080 | B60: =A60 -> 46080 | G60: 化學系 | H60: 化學系 | I60: 化學系 | J60: 化學系
A61: 46081 | B61: =A61 -> 46081 | G61: 化學系 | H61: 化學系 | I61: 化學系 | J61: 化學系
A62: 46082 | B62: =A62 -> 46082 | G62: 化學系 | H62: 化學系 | I62: 化學系 | J62: 化學系
A63: 46083 | B63: =A63 -> 46083 | G63: 化學系 | H63: 化學系 | I63: 化學系 | J63: 化學系
A64: 46084 | B64: =A64 -> 46084 | G64: 化學系 | H64: 化學系 | I64: 化學系 | J64: 化學系
A65: 46085 | B65: =A65 -> 46085 | G65: 化學系 | H65: 化學系 | I65: 化學系 | J65: 化學系
A66: 46086 | B66: =A66 -> 46086 | G66: 化學系 | H66: 化學系 | I66: 化學系 | J66: 化學系
A67: 46087 | B67: =A67 -> 46087 | G67: 化學系 | H67: 化學系 | I67: 化學系 | J67: 化學系
A68: 46088 | B68: =A68 -> 46088 | G68: 化學系 | H68: 化學系 | I68: 化學系 | J68: 化學系
A69: 46089 | B69: =A69 -> 46089 | G69: 化學系 | H69: 化學系 | I69: 化學系 | J69: 化學系
A70: 46090 | B70: =A70 -> 46090 | G70: 化學系 | H70: 化學系 | I70: 化學系 | J70: 化學系
A71: 46091 | B71: =A71 -> 46091
A72: 46092 | B72: =A72 -> 46092
A73: 46093 | B73: =A73 -> 46093
A74: 46094 | B74: =A74 -> 46094
A75: 46095 | B75: =A75 -> 46095
A76: 46096 | B76: =A76 -> 46096
A77: 46097 | B77: =A77 -> 46097
A78: 46098 | B78: =A78 -> 46098
A79: 46099 | B79: =A79 -> 46099
A80: 46100 | B80: =A80 -> 46100
A81: 46101 | B81: =A81 -> 46101
A82: 46102 | B82: =A82 -> 46102
... A93: 46113 | B93: =A93 -> 46113
A94: 46114 | B94: =A94 -> 46114 | L94: 動科 | N94: 動科
A95: 46115 | B95: =A95 -> 46115 | L95: 動科 | N95: 動科
A96: 46116 | B96: =A96 -> 46116 | L96: 動科 | N96: 動科
A97: 46117 | B97: =A97 -> 46117 | L97: 動科 | N97: 動科
A98: 46118 | B98: =A98 -> 46118 | L98: 動科 | N98: 動科
A99: 46119 | B99: =A99 -> 46119 | L99: 動科 | N99: 動科
A100: 46120 | B100: =A100 -> 46120 | L100: 動科 | N100: 動科
A101: 46121 | B101: =A101 -> 46121 | L101: 動科 | N101: 動科
A102: 46122 | B102: =A102 -> 46122 | L102: 動科 | N102: 動科
A103: 46123 | B103: =A103 -> 46123 | L103: 動科 | N103: 動科
A104: 46124 | B104: =A104 -> 46124 | L104: 動科 | N104: 動科
A105: 46125 | B105: =A105 -> 46125 | L105: 動科 | N105: 動科
... A107: 46127 | B107: =A107 -> 46127 | L107: 動科 | N107: 動科
A108: 46128 | B108: =A108 -> 46128 | G108: 生發 | H108: 生發 | I108: 生發 | J108: 生發 | L108: 動科 | N108: 動科
A109: 46129 | B109: =A109 -> 46129 | G109: 生發 | H109: 生發 | I109: 生發 | J109: 生發 | L109: 動科 | N109: 動科
A110: 46130 | B110: =A110 -> 46130 | G110: 生發 | H110: 生發 | I110: 生發 | J110: 生發 | L110: 動科 | N110: 動科
A111: 46131 | B111: =A111 -> 46131 | G111: 生發 | H111: 生發 | I111: 生發 | J111: 生發 | L111: 動科 | N111: 動科
A112: 46132 | B112: =A112 -> 46132 | G112: 生發 | H112: 生發 | I112: 生發 | J112: 生發 | L112: 動科 | N112: 動科
A113: 46133 | B113: =A113 -> 46133 | G113: 生發 | H113: 生發 | I113: 生發 | J113: 生發 | L113: 動科 | N113: 動科
A114: 46134 | B114: =A114 -> 46134 | G114: 生發 | H114: 生發 | I114: 生發 | J114: 生發 | L114: 動科 | N114: 動科
A115: 46135 | B115: =A115 -> 46135 | G115: 生發 | H115: 生發 | I115: 生發 | J115: 生發 | L115: 動科 | N115: 動科
A116: 46136 | B116: =A116 -> 46136 | H116: 台文 | I116: 台文 | J116: 市府 | L116: 動科 | N116: 動科
A117: 46137 | B117: =A117 -> 46137 | H117: 台文 | I117: 台文 | J117: 市府 | L117: 動科 | N117: 動科
A118: 46138 | B118: =A118 -> 46138 | H118: 台文 | I118: 台文 | L118: 動科 | N118: 動科
A119: 46139 | B119: =A119 -> 46139 | H119: 台文 | I119: 台文 | L119: 動科 | N119: 動科
A120: 46140 | B120: =A120 -> 46140 | H120: 台文 | I120: 台文
A121: 46141 | B121: =A121 -> 46141 | H121: 台文 | I121: 台文
A122: 46142 | B122: =A122 -> 46142 | H122: 台文 | I122: 台文
A123: 46143 | B123: =A123 -> 46143 | H123: 台文 | I123: 台文
A124: 46144 | B124: =A124 -> 46144 | H124: 台文 | I124: 台文
A125: 46145 | B125: =A125 -> 46145 | H125: 台文 | I125: 台文 | N125: 水保
A126: 46146 | B126: =A126 -> 46146 | H126: 台文 | I126: 台文 | N126: 水保
A127: 46147 | B127: =A127 -> 46147 | H127: 台文 | I127: 台文 | N127: 水保
A128: 46148 | B128: =A128 -> 46148 | H128: 台文 | I128: 台文 | N128: 水保
A129: 46149 | B129: =A129 -> 46149 | H129: 台文 | I129: 台文 | N129: 水保
A130: 46150 | B130: =A130 -> 46150 | H130: 台文 | I130: 台文 | N130: 水保
A131: 46151 | B131: =A131 -> 46151 | H131: 台文 | I131: 台文 | N131: 水保
A132: 46152 | B132: =A132 -> 46152 | H132: 台文 | I132: 台文
A133: 46153 | B133: =A133 -> 46153 | D133: 生輔組 | E133: 生輔組 | G133: 生輔組 | H133: 台文 | I133: 台文 | J133: 生輔組 | L133: 生輔組
A134: 46154 | B134: =A134 -> 46154 | D134: 生輔組 | E134: 生輔組 | G134: 生輔組 | H134: 台文 | I134: 台文 | J134: 生輔組 | L134: 生輔組
A135: 46155 | B135: =A135 -> 46155 | D135: 生輔組 | E135: 生輔組 | G135: 生輔組 | H135: 台文 | I135: 台文 | J135: 生輔組 | L135: 生輔組
A136: 46156 | B136: =A136 -> 46156 | D136: 生輔組 | E136: 生輔組 | G136: 生輔組 | H136: 台文 | I136: 台文 | J136: 生輔組 | L136: 生輔組
A137: 46157 | B137: =A137 -> 46157 | D137: 生輔組 | E137: 生輔組 | G137: 生輔組 | H137: 台文 | I137: 台文 | J137: 生輔組 | L137: 生輔組
A138: 46158 | B138: =A138 -> 46158 | D138: 生輔組 | E138: 生輔組 | G138: 生輔組 | H138: 台文 | I138: 台文 | J138: 生輔組 | L138: 生輔組
A139: 46159 | B139: =A139 -> 46159 | D139: 生輔組 | E139: 生輔組 | G139: 生輔組 | H139: 台文 | I139: 台文 | J139: 生輔組 | L139: 生輔組
A140: 46160 | B140: =A140 -> 46160 | D140: 生輔組 | E140: 生輔組 | G140: 生輔組 | H140: 台文 | I140: 台文 | J140: 生輔組 | L140: 生輔組
A141: 46161 | B141: =A141 -> 46161 | D141: 生輔組 | E141: 生輔組 | G141: 生輔組 | H141: 台文 | I141: 台文 | J141: 生輔組 | L141: 生輔組
A142: 46162 | B142: =A142 -> 46162 | D142: 生輔組 | E142: 生輔組 | G142: 生輔組 | H142: 台文 | I142: 台文 | J142: 生輔組 | L142: 生輔組
A143: 46163 | B143: =A143 -> 46163 | D143: 生輔組 | E143: 生輔組 | G143: 生輔組 | H143: 台文 | I143: 台文 | J143: 生輔組 | L143: 生輔組
A144: 46164 | B144: =A144 -> 46164 | D144: 生輔組 | E144: 生輔組 | G144: 生輔組 | H144: 台文 | I144: 台文 | J144: 生輔組 | L144: 生輔組
A145: 46165 | B145: =A145 -> 46165 | D145: 生輔組 | E145: 生輔組 | G145: 生輔組 | H145: 台文 | I145: 台文 | J145: 生輔組 | L145: 生輔組
A146: 46166 | B146: =A146 -> 46166 | D146: 生輔組 | E146: 生輔組 | G146: 生輔組 | J146: 生輔組 | L146: 生輔組
A147: 46167 | B147: =A147 -> 46167 | D147: 生輔組 | E147: 生輔組 | G147: 生輔組 | J147: 生輔組 | L147: 生輔組
A148: 46168 | B148: =A148 -> 46168 | D148: 生輔組 | E148: 生輔組 | G148: 生輔組 | J148: 生輔組 | L148: 生輔組
A149: 46169 | B149: =A149 -> 46169 | D149: 生輔組 | E149: 生輔組 | G149: 生輔組 | J149: 生輔組 | L149: 生輔組
A150: 46170 | B150: =A150 -> 46170 | D150: 生輔組 | E150: 生輔組 | G150: 生輔組 | J150: 生輔組 | L150: 生輔組
A151: 46171 | B151: =A151 -> 46171 | D151: 生輔組 | E151: 生輔組 | G151: 生輔組 | J151: 生輔組 | L151: 生輔組
A152: 46172 | B152: =A152 -> 46172 | D152: 生輔組 | E152: 生輔組 | G152: 生輔組 | J152: 生輔組 | L152: 生輔組
A153: 46173 | B153: =A153 -> 46173 | D153: 生輔組 | E153: 生輔組 | G153: 生輔組 | J153: 生輔組 | L153: 生輔組
A154: 46174 | B154: =A154 -> 46174 | D154: 生輔組 | E154: 生輔組 | G154: 生輔組 | J154: 生輔組 | L154: 生輔組
...

Sheet B區
A1: =A區!A1 -> 租借情形 | Z1: 近期更新 之日期 | AA1: 查詢下2個月 | AB1: 下3個月 | AC1: 下4個月
A2: 日期 | B2: 星期 | C2: B1 | D2: B2 | E2: B3 | F2: B4 | G2: B5 | H2: B6 | I2: B7(測速器) | J2: B8 | K2: B9 | L2: B10 | M2: B11(測速器) | N2: B12 | O2: B13(無法懸掛) | P2: B14 | Q2: B14-1 | R2: B14-2 | S2: B15 | T2: B15-1 | U2: B16 | V2: B17 | W2: B17-1 | X2: B18 | Y2: B18-1 | Z2: =TODAY() -> 46315 | AA2: 查詢下個月 | AB2: 返回開頭
A3: 46023 | B3: =A3 -> 46023
A4: 46024 | B4: =A4 -> 46024
A5: 46025 | B5: =A5 -> 46025
A6: 46026 | B6: =A6 -> 46026
A7: 46027 | B7: =A7 -> 46027
A8: 46028 | B8: =A8 -> 46028
A9: 46029 | B9: =A9 -> 46029
A10: 46030 | B10: =A10 -> 46030
A11: 46031 | B11: =A11 -> 46031
A12: 46032 | B12: =A12 -> 46032
A13: 46033 | B13: =A13 -> 46033
A14: 46034 | B14: =A14 -> 46034 | D14: 前瞻 | E14: 前瞻 | G14: 前瞻 | H14: 前瞻 | K14: 前瞻 | N14: 前瞻 | P14: 前瞻
A15: 46035 | B15: =A15 -> 46035 | D15: 前瞻 | E15: 前瞻 | G15: 前瞻 | H15: 前瞻 | K15: 前瞻 | N15: 前瞻 | P15: 前瞻
A16: 46036 | B16: =A16 -> 46036 | D16: 前瞻 | E16: 前瞻 | G16: 前瞻 | H16: 前瞻 | K16: 前瞻 | N16: 前瞻 | P16: 前瞻
A17: 46037 | B17: =A17 -> 46037 | D17: 前瞻 | E17: 前瞻 | G17: 前瞻 | H17: 前瞻 | K17: 前瞻 | N17: 前瞻 | P17: 前瞻
A18: 46038 | B18: =A18 -> 46038 | D18: 前瞻 | E18: 前瞻 | G18: 前瞻 | H18: 前瞻 | K18: 前瞻 | N18: 前瞻 | P18: 前瞻
A19: 46039 | B19: =A19 -> 46039 | D19: 前瞻 | E19: 前瞻 | G19: 前瞻 | H19: 前瞻 | K19: 前瞻 | N19: 前瞻 | P19: 前瞻
A20: 46040 | B20: =A20 -> 46040 | D20: 前瞻 | E20: 前瞻 | G20: 前瞻 | H20: 前瞻 | K20: 前瞻 | N20: 前瞻 | P20: 前瞻
A21: 46041 | B21: =A21 -> 46041 | D21: 前瞻 | E21: 前瞻 | G21: 前瞻 | H21: 前瞻 | K21: 前瞻 | N21: 前瞻 | P21: 前瞻
A22: 46042 | B22: =A22 -> 46042 | D22: 前瞻 | E22: 前瞻 | G22: 前瞻 | H22: 前瞻 | K22: 前瞻 | N22: 前瞻 | P22: 前瞻
A23: 46043 | B23: =A23 -> 46043 | F23: 秘書室 | H23: 秘書室 | J23: 秘書室 | N23: 秘書室
A24: 46044 | B24: =A24 -> 46044 | F24: 秘書室 | H24: 秘書室 | J24: 秘書室 | N24: 秘書室 | S24: 秘書室
A25: 46045 | B25: =A25 -> 46045 | F25: 秘書室 | H25: 秘書室 | J25: 秘書室 | N25: 秘書室 | S25: 秘書室
A26: 46046 | B26: =A26 -> 46046 | F26: 秘書室 | H26: 秘書室 | J26: 秘書室 | N26: 秘書室 | S26: 秘書室
A27: 46047 | B27: =A27 -> 46047 | F27: 秘書室 | H27: 秘書室 | J27: 秘書室 | N27: 秘書室 | S27: 秘書室
A28: 46048 | B28: =A28 -> 46048 | F28: 秘書室 | H28: 秘書室 | J28: 秘書室 | N28: 秘書室 | S28: 秘書室
A29: 46049 | B29: =A29 -> 46049 | F29: 秘書室 | H29: 秘書室 | J29: 秘書室 | N29: 秘書室 | S29: 秘書室
A30: 46050 | B30: =A30 -> 46050
A31: 46051 | B31: =A31 -> 46051
A32: 46052 | B32: =A32 -> 46052
A33: 46053 | B33: =A33 -> 46053
A34: 46054 | B34: =A34 -> 46054
A35: 46055 | B35: =A35 -> 46055
A36: 46056 | B36: =A36 -> 46056
A37: 46057 | B37: =A37 -> 46057
A38: 46058 | B38: =A38 -> 46058
A39: 46059 | B39: =A39 -> 46059
A40: 46060 | B40: =A40 -> 46060
A41: 46061 | B41: =A41 -> 46061
... A58: 46078 | B58: =A58 -> 46078
A59: 46079 | B59: =A59 -> 46079 | J59: 化學系 | K59: 化學系 | L59: 化學系 | N59: 化學系 | P59: 化學系
A60: 46080 | B60: =A60 -> 46080 | J60: 化學系 | K60: 化學系 | L60: 化學系 | N60: 化學系 | P60: 化學系
A61: 46081 | B61: =A61 -> 46081 | J61: 化學系 | K61: 化學系 | L61: 化學系 | N61: 化學系 | P61: 化學系
A62: 46082 | B62: =A62 -> 46082 | J62: 化學系 | K62: 化學系 | L62: 化學系 | N62: 化學系 | P62: 化學系
A63: 46083 | B63: =A63 -> 46083 | J63: 化學系 | K63: 化學系 | L63: 化學系 | N63: 化學系 | P63: 化學系
A64: 46084 | B64: =A64 -> 46084 | J64: 化學系 | K64: 化學系 | L64: 化學系 | N64: 化學系 | P64: 化學系
A65: 46085 | B65: =A65 -> 46085 | J65: 化學系 | K65: 化學系 | L65: 化學系 | N65: 化學系 | P65: 化學系
A66: 46086 | B66: =A66 -> 46086 | J66: 化學系 | K66: 化學系 | L66: 化學系 | N66: 化學系 | P66: 化學系
A67: 46087 | B67: =A67 -> 46087 | J67: 化學系 | K67: 化學系 | L67: 化學系 | N67: 化學系 | P67: 化學系
A68: 46088 | B68: =A68 -> 46088 | J68: 化學系 | K68: 化學系 | L68: 化學系 | N68: 化學系 | P68: 化學系
A69: 46089 | B69: =A69 -> 46089 | J69: 化學系 | K69: 化學系 | L69: 化學系 | N69: 化學系 | P69: 化學系
A70: 46090 | B70: =A70 -> 46090 | J70: 化學系 | K70: 化學系 | L70: 化學系 | N70: 化學系 | P70: 化學系
A71: 46091 | B71: =A71 -> 46091 | C71: 生發 | E71: 生發 | G71: 生發 | J71: 生發 | L71: 生發 | N71: 生發 | P71: 生發 | S71: 生發
A72: 46092 | B72: =A72 -> 46092 | C72: 生發 | E72: 生發 | G72: 生發 | J72: 生發 | L72: 生發 | N72: 生發 | P72: 生發 | S72: 生發
A73: 46093 | B73: =A73 -> 46093 | C73: 生發 | E73: 生發 | G73: 生發 | J73: 生發 | L73: 生發 | N73: 生發 | P73: 生發 | S73: 生發
A74: 46094 | B74: =A74 -> 46094 | C74: 生發 | E74: 生發 | G74: 生發 | J74: 生發 | L74: 生發 | N74: 生發 | P74: 生發 | S74: 生發
A75: 46095 | B75: =A75 -> 46095 | C75: 生發 | E75: 生發 | G75: 生發 | J75: 生發 | L75: 生發 | N75: 生發 | P75: 生發 | S75: 生發
A76: 46096 | B76: =A76 -> 46096 | C76: 生發 | E76: 生發 | G76: 生發 | J76: 生發 | L76: 生發 | N76: 生發 | P76: 生發 | S76: 生發
A77: 46097 | B77: =A77 -> 46097 | C77: 生發 | E77: 生發 | G77: 生發 | J77: 生發 | L77: 生發 | N77: 生發 | P77: 生發 | S77: 生發
A78: 46098 | B78: =A78 -> 46098 | C78: 生發 | E78: 生發 | G78: 生發 | J78: 生發 | L78: 生發 | N78: 生發 | P78: 生發 | S78: 生發
A79: 46099 | B79: =A79 -> 46099 | C79: 生發 | E79: 生發 | G79: 生發 | J79: 生發 | L79: 生發 | N79: 生發 | P79: 生發 | S79: 生發
A80: 46100 | B80: =A80 -> 46100 | C80: 生發 | E80: 生發 | G80: 生發 | J80: 生發 | L80: 生發 | N80: 生發 | P80: 生發 | S80: 生發
A81: 46101 | B81: =A81 -> 46101 | C81: 生發 | E81: 生發 | G81: 生發 | J81: 生發 | L81: 生發 | N81: 生發 | P81: 生發 | S81: 生發
A82: 46102 | B82: =A82 -> 46102 | C82: 生發 | E82: 生發 | G82: 生發 | J82: 生發 | L82: 生發 | N82: 生發 | P82: 生發 | S82: 生發
... A84: 46104 | B84: =A84 -> 46104 | C84: 生發 | E84: 生發 | G84: 生發 | J84: 生發 | L84: 生發 | N84: 生發 | P84: 生發 | S84: 生發
A85: 46105 | B85: =A85 -> 46105
A86: 46106 | B86: =A86 -> 46106
A87: 46107 | B87: =A87 -> 46107
A88: 46108 | B88: =A88 -> 46108
A89: 46109 | B89: =A89 -> 46109
A90: 46110 | B90: =A90 -> 46110
A91: 46111 | B91: =A91 -> 46111
A92: 46112 | B92: =A92 -> 46112
A93: 46113 | B93: =A93 -> 46113
A94: 46114 | B94: =A94 -> 46114
A95: 46115 | B95: =A95 -> 46115
A96: 46116 | B96: =A96 -> 46116
... A98: 46118 | B98: =A98 -> 46118
A99: 46119 | B99: =A99 -> 46119 | K99: 動科 | N99: 動科 | S99: 動科 | V99: 動科
A100: 46120 | B100: =A100 -> 46120 | K100: 動科 | N100: 動科 | S100: 動科 | V100: 動科
A101: 46121 | B101: =A101 -> 46121 | K101: 動科 | N101: 動科 | S101: 動科 | V101: 動科
A102: 46122 | B102: =A102 -> 46122 | K102: 動科 | N102: 動科 | S102: 動科 | V102: 動科
A103: 46123 | B103: =A103 -> 46123 | K103: 動科 | N103: 動科 | S103: 動科 | V103: 動科
A104: 46124 | B104: =A104 -> 46124 | K104: 動科 | N104: 動科 | S104: 動科 | V104: 動科
A105: 46125 | B105: =A105 -> 46125 | J105: 土環 | K105: 動科 | L105: 土環 | N105: 動科 | S105: 動科 | V105: 動科
A106: 46126 | B106: =A106 -> 46126 | J106: 土環 | K106: 動科 | L106: 土環 | N106: 動科 | S106: 動科 | V106: 動科
A107: 46127 | B107: =A107 -> 46127 | J107: 土環 | K107: 動科 | L107: 土環 | N107: 動科 | S107: 動科 | V107: 動科
A108: 46128 | B108: =A108 -> 46128 | C108: 生發 | D108: 生發 | E108: 生發 | F108: 生發 | G108: 生發 | J108: 土環 | K108: 動科 | L108: 土環 | N108: 動科 | S108: 動科 | V108: 動科
A109: 46129 | B109: =A109 -> 46129 | C109: 生發 | D109: 生發 | E109: 生發 | F109: 生發 | G109: 生發 | J109: 土環 | K109: 動科 | L109: 土環 | N109: 動科 | S109: 動科 | V109: 動科
A110: 46130 | B110: =A110 -> 46130 | C110: 生發 | D110: 生發 | E110: 生發 | F110: 生發 | G110: 生發 | J110: 土環 | K110: 動科 | L110: 土環 | N110: 動科 | S110: 動科 | V110: 動科
A111: 46131 | B111: =A111 -> 46131 | C111: 生發 | D111: 生發 | E111: 生發 | F111: 生發 | G111: 生發 | J111: 土環 | K111: 動科 | L111: 土環 | N111: 動科 | S111: 動科 | V111: 動科
A112: 46132 | B112: =A112 -> 46132 | C112: 生發 | D112: 生發 | E112: 生發 | F112: 生發 | G112: 生發 | J112: 土環 | K112: 動科 | L112: 土環 | N112: 動科 | S112: 動科 | V112: 動科
A113: 46133 | B113: =A113 -> 46133 | C113: 生發 | D113: 生發 | E113: 生發 | F113: 生發 | G113: 生發 | J113: 土環 | K113: 動科 | L113: 土環 | N113: 動科 | S113: 動科 | V113: 動科
A114: 46134 | B114: =A114 -> 46134 | C114: 生發 | D114: 生發 | E114: 生發 | F114: 生發 | G114: 生發 | H114: 市府 | J114: 土環 | K114: 動科 | L114: 土環 | N114: 動科 | P114: 市府 | S114: 動科 | U114: 市府 | V114: 動科 | X114: 市府
A115: 46135 | B115: =A115 -> 46135 | C115: 生發 | D115: 生發 | E115: 生發 | F115: 生發 | G115: 生發 | H115: 市府 | J115: 土環 | K115: 動科 | L115: 土環 | N115: 動科 | P115: 市府 | S115: 動科 | U115: 市府 | V115: 動科 | X115: 市府
A116: 46136 | B116: =A116 -> 46136 | C116: 市府 | D116: 市府 | E116: 市府 | F116: 市府 | G116: 市府 | H116: 市府 | J116: 土環 | K116: 動科 | L116: 土環 | N116: 動科 | P116: 市府 | S116: 動科 | U116: 市府 | V116: 動科 | X116: 市府
A117: 46137 | B117: =A117 -> 46137 | C117: 市府 | D117: 市府 | E117: 市府 | F117: 市府 | G117: 市府 | H117: 市府 | J117: 土環 | K117: 動科 | L117: 土環 | N117: 動科 | P117: 市府 | S117: 動科 | U117: 市府 | V117: 動科 | X117: 市府
A118: 46138 | B118: =A118 -> 46138 | J118: 土環 | K118: 動科 | L118: 土環 | N118: 動科 | S118: 動科 | V118: 動科
...

Sheet C區
A1: =A區!A1 -> 租借情形 | M1: 近期更新之日期 | N1: 查詢下2個月 | O1: 下3個月 | P1: 下4個月
A2: 日期 | B2: 星期 | C2: C1 | D2: C2 | E2: C3 | F2: C4 | G2: C5 | H2: C6 | I2: C7 | J2: C8 | K2: C9 | L2: C10 | M2: =TODAY() -> 46315 | N2: 查詢下個月 | O2: 返回開頭
A3: 46023 | B3: =A3 -> 46023
A4: 46024 | B4: =A4 -> 46024
A5: 46025 | B5: =A5 -> 46025
A6: 46026 | B6: =A6 -> 46026
A7: 46027 | B7: =A7 -> 46027
A8: 46028 | B8: =A8 -> 46028
A9: 46029 | B9: =A9 -> 46029
A10: 46030 | B10: =A10 -> 46030
A11: 46031 | B11: =A11 -> 46031
A12: 46032 | B12: =A12 -> 46032
A13: 46033 | B13: =A13 -> 46033
A14: 46034 | B14: =A14 -> 46034
... A279: 46299 | B279: =A279 -> 46299
A280: 46300 | B280: =A280 -> 46300 | C280: 體育室 | F280: 體育室
A281: 46301 | B281: =A281 -> 46301 | C281: 體育室 | F281: 體育室
A282: 46302 | B282: =A282 -> 46302 | C282: 體育室 | F282: 體育室
A283: 46303 | B283: =A283 -> 46303 | C283: 體育室 | F283: 體育室
A284: 46304 | B284: =A284 -> 46304 | C284: 體育室 | F284: 體育室
A285: 46305 | B285: =A285 -> 46305 | C285: 體育室 | F285: 體育室
A286: 46306 | B286: =A286 -> 46306 | C286: 體育室 | F286: 體育室
A287: 46307 | B287: =A287 -> 46307 | C287: 體育室 | F287: 體育室
A288: 46308 | B288: =A288 -> 46308 | C288: 體育室 | F288: 體育室
A289: 46309 | B289: =A289 -> 46309 | C289: 體育室 | F289: 體育室
A290: 46310 | B290: =A290 -> 46310 | C290: 體育室 | F290: 體育室
A291: 46311 | B291: =A291 -> 46311 | C291: 體育室 | F291: 體育室
... A303: 46323 | B303: =A303 -> 46323 | C303: 體育室 | F303: 體育室
A304: 46324 | B304: =A304 -> 46324 | C304: 體育室 | F304: 體育室 | G304: 化學系 | H304: 化學系 | I304: 化學系 | J304: 化學系
A305: 46325 | B305: =A305 -> 46325 | C305: 體育室 | F305: 體育室 | G305: 化學系 | H305: 化學系 | I305: 化學系 | J305: 化學系
A306: 46326 | B306: =A306 -> 46326 | C306: 體育室 | F306: 體育室 | G306: 化學系 | H306: 化學系 | I306: 化學系 | J306: 化學系
A307: 46327 | B307: =A307 -> 46327 | C307: 體育室 | F307: 體育室 | G307: 化學系 | H307: 化學系 | I307: 化學系 | J307: 化學系
A308: 46328 | B308: =A308 -> 46328 | G308: 化學系 | H308: 化學系 | I308: 化學系 | J308: 化學系
A309: 46329 | B309: =A309 -> 46329 | C309: 園藝系 | F309: 園藝系
A310: 46330 | B310: =A310 -> 46330 | C310: 園藝系 | F310: 園藝系
A311: 46331 | B311: =A311 -> 46331 | C311: 園藝系 | F311: 園藝系
A312: 46332 | B312: =A312 -> 46332 | C312: 園藝系 | F312: 園藝系
A313: 46333 | B313: =A313 -> 46333 | C313: 園藝系 | F313: 園藝系
A314: 46334 | B314: =A314 -> 46334 | C314: 園藝系 | F314: 園藝系
A315: 46335 | B315: =A315 -> 46335 | C315: 園藝系 | F315: 園藝系
A316: 46336 | B316: =A316 -> 46336 | C316: 園藝系 | F316: 園藝系
A317: 46337 | B317: =A317 -> 46337 | C317: 園藝系 | F317: 園藝系
A318: 46338 | B318: =A318 -> 46338 | C318: 園藝系 | F318: 園藝系
A319: 46339 | B319: =A319 -> 46339 | C319: 園藝系 | F319: 園藝系
A320: 46340 | B320: =A320 -> 46340 | C320: 園藝系 | F320: 園藝系
... A342: 46362 | B342: =A342 -> 46362 | C342: 園藝系 | F342: 園藝系
A343: 46363 | B343: =A343 -> 46363
A344: 46364 | B344: =A344 -> 46364
A345: 46365 | B345: =A345 -> 46365
A346: 46366 | B346: =A346 -> 46366
A347: 46367 | B347: =A347 -> 46367
A348: 46368 | B348: =A348 -> 46368
A349: 46369 | B349: =A349 -> 46369
A350: 46370 | B350: =A350 -> 46370
A351: 46371 | B351: =A351 -> 46371
A352: 46372 | B352: =A352 -> 46372
A353: 46373 | B353: =A353 -> 46373
A354: 46374 | B354: =A354 -> 46374
... A367: 46387 | B367: =A367 -> 46387

Sheet D區
A1: =A區!A1 -> 租借情形 | N1: 近期更新之日期 | O1: 查詢下2個月 | P1: 下3個月 | Q1: 下4個月
A2: 日期 | B2: 星期 | C2: D1 | D2: D2 | E2: D3 | F2: D4 | G2: D5 | H2: D6 | I2: D7 | J2: D8 | K2: D9 | L2: D10 | M2: D11 | N2: =TODAY() -> 46315 | O2: 查詢下個月 | P2: 返回開頭
A3: 46023 | B3: =A3 -> 46023
A4: 46024 | B4: =A4 -> 46024
A5: 46025 | B5: =A5 -> 46025
A6: 46026 | B6: =A6 -> 46026
A7: 46027 | B7: =A7 -> 46027
A8: 46028 | B8: =A8 -> 46028
A9: 46029 | B9: =A9 -> 46029
A10: 46030 | B10: =A10 -> 46030
A11: 46031 | B11: =A11 -> 46031
A12: 46032 | B12: =A12 -> 46032
A13: 46033 | B13: =A13 -> 46033
A14: 46034 | B14: =A14 -> 46034
... A98: 46118 | B98: =A98 -> 46118
A99: 46119 | B99: =A99 -> 46119 | D99: 動科 | F99: 動科
A100: 46120 | B100: =A100 -> 46120 | D100: 動科 | F100: 動科
A101: 46121 | B101: =A101 -> 46121 | D101: 動科 | F101: 動科
A102: 46122 | B102: =A102 -> 46122 | D102: 動科 | F102: 動科
A103: 46123 | B103: =A103 -> 46123 | D103: 動科 | F103: 動科
A104: 46124 | B104: =A104 -> 46124 | D104: 動科 | F104: 動科
A105: 46125 | B105: =A105 -> 46125 | C105: 土環 | D105: 動科 | E105: 土環 | F105: 動科
A106: 46126 | B106: =A106 -> 46126 | C106: 土環 | D106: 動科 | E106: 土環 | F106: 動科
A107: 46127 | B107: =A107 -> 46127 | C107: 土環 | D107: 動科 | E107: 土環 | F107: 動科
A108: 46128 | B108: =A108 -> 46128 | C108: 土環 | D108: 動科 | E108: 土環 | F108: 動科
A109: 46129 | B109: =A109 -> 46129 | C109: 土環 | D109: 動科 | E109: 土環 | F109: 動科
A110: 46130 | B110: =A110 -> 46130 | C110: 土環 | D110: 動科 | E110: 土環 | F110: 動科
A111: 46131 | B111: =A111 -> 46131 | C111: 土環 | D111: 動科 | E111: 土環 | F111: 動科
A112: 46132 | B112: =A112 -> 46132 | C112: 土環 | D112: 動科 | E112: 土環 | F112: 動科
A113: 46133 | B113: =A113 -> 46133 | C113: 土環 | D113: 動科 | E113: 土環 | F113: 動科
A114: 46134 | B114: =A114 -> 46134 | C114: 土環 | D114: 動科 | E114: 土環 | F114: 動科
A115: 46135 | B115: =A115 -> 46135 | C115: 土環 | D115: 動科 | E115: 土環 | F115: 動科
A116: 46136 | B116: =A116 -> 46136 | C116: 土環 | D116: 動科 | E116: 土環 | F116: 動科
... A119: 46139 | B119: =A119 -> 46139 | C119: 土環 | D119: 動科 | E119: 土環 | F119: 動科
A120: 46140 | B120: =A120 -> 46140 | C120: 土環 | E120: 土環
A121: 46141 | B121: =A121 -> 46141 | C121: 土環 | E121: 土環
A122: 46142 | B122: =A122 -> 46142 | C122: 土環 | E122: 土環
A123: 46143 | B123: =A123 -> 46143 | C123: 土環 | E123: 土環
A124: 46144 | B124: =A124 -> 46144 | C124: 土環 | E124: 土環
A125: 46145 | B125: =A125 -> 46145
A126: 46146 | B126: =A126 -> 46146
A127: 46147 | B127: =A127 -> 46147
A128: 46148 | B128: =A128 -> 46148
A129: 46149 | B129: =A129 -> 46149
A130: 46150 | B130: =A130 -> 46150
A131: 46151 | B131: =A131 -> 46151
A132: 46152 | B132: =A132 -> 46152
A133: 46153 | B133: =A133 -> 46153
A134: 46154 | B134: =A134 -> 46154
A135: 46155 | B135: =A135 -> 46155
A136: 46156 | B136: =A136 -> 46156
... A139: 46159 | B139: =A139 -> 46159
A140: 46160 | B140: =A140 -> 46160 | G140: 景觀系 | H140: 景觀系
A141: 46161 | B141: =A141 -> 46161 | G141: 景觀系 | H141: 景觀系
A142: 46162 | B142: =A142 -> 46162 | G142: 景觀系 | H142: 景觀系
A143: 46163 | B143: =A143 -> 46163 | G143: 景觀系 | H143: 景觀系
A144: 46164 | B144: =A144 -> 46164 | G144: 景觀系 | H144: 景觀系
A145: 46165 | B145: =A145 -> 46165 | G145: 景觀系 | H145: 景觀系
A146: 46166 | B146: =A146 -> 46166 | G146: 景觀系 | H146: 景觀系
A147: 46167 | B147: =A147 -> 46167
A148: 46168 | B148: =A148 -> 46168
A149: 46169 | B149: =A149 -> 46169
A150: 46170 | B150: =A150 -> 46170
A151: 46171 | B151: =A151 -> 46171
A152: 46172 | B152: =A152 -> 46172
A153: 46173 | B153: =A153 -> 46173
A154: 46174 | B154: =A154 -> 46174
A155: 46175 | B155: =A155 -> 46175
A156: 46176 | B156: =A156 -> 46176
A157: 46177 | B157: =A157 -> 46177
A158: 46178 | B158: =A158 -> 46178
... A279: 46299 | B279: =A279 -> 46299
A280: 46300 | B280: =A280 -> 46300 | G280: 體育室 | J280: 體育室
A281: 46301 | B281: =A281 -> 46301 | G281: 體育室 | J281: 體育室
A282: 46302 | B282: =A282 -> 46302 | G282: 體育室 | J282: 體育室
A283: 46303 | B283: =A283 -> 46303 | G283: 體育室 | J283: 體育室
A284: 46304 | B284: =A284 -> 46304 | G284: 體育室 | J284: 體育室
A285: 46305 | B285: =A285 -> 46305 | G285: 體育室 | J285: 體育室
A286: 46306 | B286: =A286 -> 46306 | G286: 體育室 | J286: 體育室
A287: 46307 | B287: =A287 -> 46307 | G287: 體育室 | J287: 體育室
A288: 46308 | B288: =A288 -> 46308 | G288: 體育室 | J288: 體育室
A289: 46309 | B289: =A289 -> 46309 | G289: 體育室 | J289: 體育室
A290: 46310 | B290: =A290 -> 46310 | G290: 體育室 | J290: 體育室
A291: 46311 | B291: =A291 -> 46311 | G291: 體育室 | J291: 體育室
... A307: 46327 | B307: =A307 -> 46327 | G307: 體育室 | J307: 體育室
A308: 46328 | B308: =A308 -> 46328
A309: 46329 | B309: =A309 -> 46329 | C309: 園藝系 | F309: 園藝系
A310: 46330 | B310: =A310 -> 46330 | C310: 園藝系 | F310: 園藝系
A311: 46331 | B311: =A311 -> 46331 | C311: 園藝系 | F311: 園藝系
A312: 46332 | B312: =A312 -> 46332 | C312: 園藝系 | F312: 園藝系
A313: 46333 | B313: =A313 -> 46333 | C313: 園藝系 | F313: 園藝系
A314: 46334 | B314: =A314 -> 46334 | C314: 園藝系 | F314: 園藝系
A315: 46335 | B315: =A315 -> 46335 | C315: 園藝系 | F315: 園藝系
A316: 46336 | B316: =A316 -> 46336 | C316: 園藝系 | F316: 園藝系
A317: 46337 | B317: =A317 -> 46337 | C317: 園藝系 | F317: 園藝系
A318: 46338 | B318: =A318 -> 46338 | C318: 園藝系 | F318: 園藝系
A319: 46339 | B319: =A319 -> 46339 | C319: 園藝系 | F319: 園藝系
A320: 46340 | B320: =A320 -> 46340 | C320: 園藝系 | F320: 園藝系
... A342: 46362 | B342: =A342 -> 46362 | C342: 園藝系 | F342: 園藝系
A343: 46363 | B343: =A343 -> 46363
...

Sheet E區
A1: =A區!A1 -> 租借情形 | L1: 近期更新之日期 | M1: 查詢下2個月 | N1: 下3個月 | O1: 下4個月
A2: 日期 | B2: 星期 | C2: E1(無法懸掛) | D2: E2 | E2: E3 | F2: E4(裁撤) | G2: E5 | H2: E6 | I2: E7 | J2: E8 | K2: E9(裁撤) | L2: =TODAY() -> 46315 | M2: 查詢下個月 | N2: 返回開頭
A3: 46023 | B3: =A3 -> 46023
A4: 46024 | B4: =A4 -> 46024
A5: 46025 | B5: =A5 -> 46025
A6: 46026 | B6: =A6 -> 46026
A7: 46027 | B7: =A7 -> 46027
A8: 46028 | B8: =A8 -> 46028
A9: 46029 | B9: =A9 -> 46029
A10: 46030 | B10: =A10 -> 46030
A11: 46031 | B11: =A11 -> 46031
A12: 46032 | B12: =A12 -> 46032
A13: 46033 | B13: =A13 -> 46033
A14: 46034 | B14: =A14 -> 46034
... A98: 46118 | B98: =A98 -> 46118
A99: 46119 | B99: =A99 -> 46119 | D99: 動科 | H99: 動科 | J99: 動科
A100: 46120 | B100: =A100 -> 46120 | D100: 動科 | H100: 動科 | J100: 動科
A101: 46121 | B101: =A101 -> 46121 | D101: 動科 | H101: 動科 | J101: 動科
A102: 46122 | B102: =A102 -> 46122 | D102: 動科 | H102: 動科 | J102: 動科
A103: 46123 | B103: =A103 -> 46123 | D103: 動科 | H103: 動科 | J103: 動科
A104: 46124 | B104: =A104 -> 46124 | D104: 動科 | H104: 動科 | J104: 動科
A105: 46125 | B105: =A105 -> 46125 | D105: 動科 | H105: 動科 | J105: 動科
A106: 46126 | B106: =A106 -> 46126 | D106: 動科 | H106: 動科 | J106: 動科
A107: 46127 | B107: =A107 -> 46127 | D107: 動科 | H107: 動科 | J107: 動科
A108: 46128 | B108: =A108 -> 46128 | D108: 動科 | H108: 動科 | J108: 動科
A109: 46129 | B109: =A109 -> 46129 | D109: 動科 | H109: 動科 | J109: 動科
A110: 46130 | B110: =A110 -> 46130 | D110: 動科 | H110: 動科 | J110: 動科
... A113: 46133 | B113: =A113 -> 46133 | D113: 動科 | H113: 動科 | J113: 動科
A114: 46134 | B114: =A114 -> 46134 | D114: 動科 | G114: 市府 | H114: 動科 | I114: 市府 | J114: 動科
A115: 46135 | B115: =A115 -> 46135 | D115: 動科 | G115: 市府 | H115: 動科 | I115: 市府 | J115: 動科
A116: 46136 | B116: =A116 -> 46136 | D116: 動科 | G116: 市府 | H116: 動科 | I116: 市府 | J116: 動科
A117: 46137 | B117: =A117 -> 46137 | D117: 動科 | G117: 市府 | H117: 動科 | I117: 市府 | J117: 動科
A118: 46138 | B118: =A118 -> 46138 | D118: 動科 | H118: 動科 | J118: 動科
A119: 46139 | B119: =A119 -> 46139 | D119: 動科 | H119: 動科 | J119: 動科
A120: 46140 | B120: =A120 -> 46140
A121: 46141 | B121: =A121 -> 46141
A122: 46142 | B122: =A122 -> 46142
A123: 46143 | B123: =A123 -> 46143
A124: 46144 | B124: =A124 -> 46144
A125: 46145 | B125: =A125 -> 46145 | G125: 水保 | I125: 水保
A126: 46146 | B126: =A126 -> 46146 | G126: 水保 | I126: 水保 | J126: 農藝系
A127: 46147 | B127: =A127 -> 46147 | G127: 水保 | I127: 水保 | J127: 農藝系
A128: 46148 | B128: =A128 -> 46148 | G128: 水保 | I128: 水保 | J128: 農藝系
A129: 46149 | B129: =A129 -> 46149 | G129: 水保 | I129: 水保 | J129: 農藝系
A130: 46150 | B130: =A130 -> 46150 | G130: 水保 | I130: 水保 | J130: 農藝系
A131: 46151 | B131: =A131 -> 46151 | G131: 水保 | I131: 水保 | J131: 農藝系
A132: 46152 | B132: =A132 -> 46152 | J132: 農藝系
A133: 46153 | B133: =A133 -> 46153 | E133: 生輔組 | H133: 生輔組 | I133: 生輔組 | J133: 農藝系
A134: 46154 | B134: =A134 -> 46154 | E134: 生輔組 | H134: 生輔組 | I134: 生輔組 | J134: 農藝系
A135: 46155 | B135: =A135 -> 46155 | E135: 生輔組 | H135: 生輔組 | I135: 生輔組 | J135: 農藝系
A136: 46156 | B136: =A136 -> 46156 | E136: 生輔組 | H136: 生輔組 | I136: 生輔組 | J136: 農藝系
A137: 46157 | B137: =A137 -> 46157 | E137: 生輔組 | H137: 生輔組 | I137: 生輔組 | J137: 農藝系
A138: 46158 | B138: =A138 -> 46158 | E138: 生輔組 | H138: 生輔組 | I138: 生輔組 | J138: 農藝系
A139: 46159 | B139: =A139 -> 46159 | E139: 生輔組 | H139: 生輔組 | I139: 生輔組 | J139: 農藝系
A140: 46160 | B140: =A140 -> 46160 | E140: 生輔組 | H140: 生輔組 | I140: 生輔組
A141: 46161 | B141: =A141 -> 46161 | E141: 生輔組 | H141: 生輔組 | I141: 生輔組
A142: 46162 | B142: =A142 -> 46162 | E142: 生輔組 | H142: 生輔組 | I142: 生輔組
A143: 46163 | B143: =A143 -> 46163 | E143: 生輔組 | H143: 生輔組 | I143: 生輔組
A144: 46164 | B144: =A144 -> 46164 | E144: 生輔組 | H144: 生輔組 | I144: 生輔組
A145: 46165 | B145: =A145 -> 46165 | E145: 生輔組 | H145: 生輔組 | I145: 生輔組
A146: 46166 | B146: =A146 -> 46166 | E146: 生輔組 | H146: 生輔組 | I146: 生輔組
A147: 46167 | B147: =A147 -> 46167 | E147: 生輔組 | H147: 生輔組 | I147: 生輔組
A148: 46168 | B148: =A148 -> 46168 | E148: 生輔組 | H148: 生輔組 | I148: 生輔組
A149: 46169 | B149: =A149 -> 46169 | E149: 生輔組 | H149: 生輔組 | I149: 生輔組
A150: 46170 | B150: =A150 -> 46170 | E150: 生輔組 | H150: 生輔組 | I150: 生輔組
A151: 46171 | B151: =A151 -> 46171 | E151: 生輔組 | H151: 生輔組 | I151: 生輔組
... A154: 46174 | B154: =A154 -> 46174 | E154: 生輔組 | H154: 生輔組 | I154: 生輔組
A155: 46175 | B155: =A155 -> 46175
A156: 46176 | B156: =A156 -> 46176
A157: 46177 | B157: =A157 -> 46177
A158: 46178 | B158: =A158 -> 46178
A159: 46179 | B159: =A159 -> 46179
A160: 46180 | B160: =A160 -> 46180
A161: 46181 | B161: =A161 -> 46181
A162: 46182 | B162: =A162 -> 46182
A163: 46183 | B163: =A163 -> 46183
A164: 46184 | B164: =A164 -> 46184
A165: 46185 | B165: =A165 -> 46185
A166: 46186 | B166: =A166 -> 46186
... A279: 46299 | B279: =A279 -> 46299
A280: 46300 | B280: =A280 -> 46300 | H280: 體育室 | J280: 體育室
A281: 46301 | B281: =A281 -> 46301 | H281: 體育室 | J281: 體育室
A282: 46302 | B282: =A282 -> 46302 | H282: 體育室 | J282: 體育室
A283: 46303 | B283: =A283 -> 46303 | H283: 體育室 | J283: 體育室
A284: 46304 | B284: =A284 -> 46304 | H284: 體育室 | J284: 體育室
A285: 46305 | B285: =A285 -> 46305 | H285: 體育室 | J285: 體育室
A286: 46306 | B286: =A286 -> 46306 | H286: 體育室 | J286: 體育室
A287: 46307 | B287: =A287 -> 46307 | H287: 體育室 | J287: 體育室
A288: 46308 | B288: =A288 -> 46308 | H288: 體育室 | J288: 體育室
A289: 46309 | B289: =A289 -> 46309 | H289: 體育室 | J289: 體育室
A290: 46310 | B290: =A290 -> 46310 | H290: 體育室 | J290: 體育室
A291: 46311 | B291: =A291 -> 46311 | H291: 體育室 | J291: 體育室
... A297: 46317 | B297: =A297 -> 46317 | H297: 體育室 | J297: 體育室
A298: 46318 | B298: =A298 -> 46318 | G298: 秘書室 | H298: 體育室 | I298: 秘書室 | J298: 體育室
A299: 46319 | B299: =A299 -> 46319 | G299: 秘書室 | H299: 體育室 | I299: 秘書室 | J299: 體育室
A300: 46320 | B300: =A300 -> 46320 | G300: 秘書室 | H300: 體育室 | I300: 秘書室 | J300: 體育室
A301: 46321 | B301: =A301 -> 46321 | G301: 秘書室 | H301: 體育室 | I301: 秘書室 | J301: 體育室
A302: 46322 | B302: =A302 -> 46322 | G302: 秘書室 | H302: 體育室 | I302: 秘書室 | J302: 體育室
A303: 46323 | B303: =A303 -> 46323 | G303: 秘書室 | H303: 體育室 | I303: 秘書室 | J303: 體育室
A304: 46324 | B304: =A304 -> 46324 | G304: 秘書室 | H304: 體育室 | I304: 秘書室 | J304: 體育室
...

Sheet F區
A1: =A區!A1 -> 租借情形 | P1: 近期更新之日期 | Q1: 查詢下2個月 | R1: 下3個月 | S1: 下4個月
A2: 日期 | B2: 星期 | C2: F1 | D2: F2 | E2: F3 | F2: F4 | G2: F5 | H2: F6 | I2: F7 | J2: F8 | K2: F9 | L2: F10 | M2: F11 | N2: F12 | O2: F13 | P2: =TODAY() -> 46315 | Q2: 查詢下個月 | R2: 返回開頭
A3: 46023 | B3: =A3 -> 46023
A4: 46024 | B4: =A4 -> 46024
A5: 46025 | B5: =A5 -> 46025
A6: 46026 | B6: =A6 -> 46026
A7: 46027 | B7: =A7 -> 46027
A8: 46028 | B8: =A8 -> 46028
A9: 46029 | B9: =A9 -> 46029
A10: 46030 | B10: =A10 -> 46030
A11: 46031 | B11: =A11 -> 46031
A12: 46032 | B12: =A12 -> 46032
A13: 46033 | B13: =A13 -> 46033
A14: 46034 | B14: =A14 -> 46034
... A58: 46078 | B58: =A58 -> 46078
A59: 46079 | B59: =A59 -> 46079 | G59: 化學系 | H59: 化學系 | I59: 化學系 | J59: 化學系 | K59: 化學系 | L59: 化學系
A60: 46080 | B60: =A60 -> 46080 | G60: 化學系 | H60: 化學系 | I60: 化學系 | J60: 化學系 | K60: 化學系 | L60: 化學系
A61: 46081 | B61: =A61 -> 46081 | G61: 化學系 | H61: 化學系 | I61: 化學系 | J61: 化學系 | K61: 化學系 | L61: 化學系
A62: 46082 | B62: =A62 -> 46082 | G62: 化學系 | H62: 化學系 | I62: 化學系 | J62: 化學系 | K62: 化學系 | L62: 化學系
A63: 46083 | B63: =A63 -> 46083 | G63: 化學系 | H63: 化學系 | I63: 化學系 | J63: 化學系 | K63: 化學系 | L63: 化學系
A64: 46084 | B64: =A64 -> 46084 | G64: 化學系 | H64: 化學系 | I64: 化學系 | J64: 化學系 | K64: 化學系 | L64: 化學系
A65: 46085 | B65: =A65 -> 46085 | G65: 化學系 | H65: 化學系 | I65: 化學系 | J65: 化學系 | K65: 化學系 | L65: 化學系
A66: 46086 | B66: =A66 -> 46086 | G66: 化學系 | H66: 化學系 | I66: 化學系 | J66: 化學系 | K66: 化學系 | L66: 化學系
A67: 46087 | B67: =A67 -> 46087 | G67: 化學系 | H67: 化學系 | I67: 化學系 | J67: 化學系 | K67: 化學系 | L67: 化學系
A68: 46088 | B68: =A68 -> 46088 | G68: 化學系 | H68: 化學系 | I68: 化學系 | J68: 化學系 | K68: 化學系 | L68: 化學系
A69: 46089 | B69: =A69 -> 46089 | G69: 化學系 | H69: 化學系 | I69: 化學系 | J69: 化學系 | K69: 化學系 | L69: 化學系
A70: 46090 | B70: =A70 -> 46090 | G70: 化學系 | H70: 化學系 | I70: 化學系 | J70: 化學系 | K70: 化學系 | L70: 化學系
A71: 46091 | B71: =A71 -> 46091
A72: 46092 | B72: =A72 -> 46092
A73: 46093 | B73: =A73 -> 46093
A74: 46094 | B74: =A74 -> 46094
A75: 46095 | B75: =A75 -> 46095
A76: 46096 | B76: =A76 -> 46096
A77: 46097 | B77: =A77 -> 46097
A78: 46098 | B78: =A78 -> 46098
A79: 46099 | B79: =A79 -> 46099
A80: 46100 | B80: =A80 -> 46100
A81: 46101 | B81: =A81 -> 46101
A82: 46102 | B82: =A82 -> 46102
... A124: 46144 | B124: =A124 -> 46144
A125: 46145 | B125: =A125 -> 46145 | F125: 水保
A126: 46146 | B126: =A126 -> 46146 | F126: 水保
A127: 46147 | B127: =A127 -> 46147 | F127: 水保
A128: 46148 | B128: =A128 -> 46148 | F128: 水保
A129: 46149 | B129: =A129 -> 46149 | F129: 水保
A130: 46150 | B130: =A130 -> 46150 | F130: 水保
A131: 46151 | B131: =A131 -> 46151 | F131: 水保
A132: 46152 | B132: =A132 -> 46152
A133: 46153 | B133: =A133 -> 46153 | F133: 生輔組 | H133: 生輔組 | L133: 生輔組 | M133: 生輔組
A134: 46154 | B134: =A134 -> 46154 | F134: 生輔組 | H134: 生輔組 | L134: 生輔組 | M134: 生輔組
A135: 46155 | B135: =A135 -> 46155 | F135: 生輔組 | H135: 生輔組 | L135: 生輔組 | M135: 生輔組
A136: 46156 | B136: =A136 -> 46156 | F136: 生輔組 | H136: 生輔組 | L136: 生輔組 | M136: 生輔組
A137: 46157 | B137: =A137 -> 46157 | F137: 生輔組 | H137: 生輔組 | L137: 生輔組 | M137: 生輔組
A138: 46158 | B138: =A138 -> 46158 | F138: 生輔組 | H138: 生輔組 | L138: 生輔組 | M138: 生輔組
A139: 46159 | B139: =A139 -> 46159 | F139: 生輔組 | H139: 生輔組 | L139: 生輔組 | M139: 生輔組
A140: 46160 | B140: =A140 -> 46160 | F140: 生輔組 | H140: 生輔組 | L140: 生輔組 | M140: 生輔組
A141: 46161 | B141: =A141 -> 46161 | F141: 生輔組 | H141: 生輔組 | L141: 生輔組 | M141: 生輔組
A142: 46162 | B142: =A142 -> 46162 | F142: 生輔組 | H142: 生輔組 | L142: 生輔組 | M142: 生輔組
A143: 46163 | B143: =A143 -> 46163 | F143: 生輔組 | H143: 生輔組 | L143: 生輔組 | M143: 生輔組
A144: 46164 | B144: =A144 -> 46164 | F144: 生輔組 | H144: 生輔組 | L144: 生輔組 | M144: 生輔組
... A154: 46174 | B154: =A154 -> 46174 | F154: 生輔組 | H154: 生輔組 | L154: 生輔組 | M154: 生輔組
A155: 46175 | B155: =A155 -> 46175
A156: 46176 | B156: =A156 -> 46176
A157: 46177 | B157: =A157 -> 46177
A158: 46178 | B158: =A158 -> 46178
A159: 46179 | B159: =A159 -> 46179
A160: 46180 | B160: =A160 -> 46180
A161: 46181 | B161: =A161 -> 46181
A162: 46182 | B162: =A162 -> 46182
A163: 46183 | B163: =A163 -> 46183
A164: 46184 | B164: =A164 -> 46184
A165: 46185 | B165: =A165 -> 46185
A166: 46186 | B166: =A166 -> 46186
... A279: 46299 | B279: =A279 -> 46299
A280: 46300 | B280: =A280 -> 46300 | M280: 體育室
A281: 46301 | B281: =A281 -> 46301 | M281: 體育室
A282: 46302 | B282: =A282 -> 46302 | M282: 體育室
A283: 46303 | B283: =A283 -> 46303 | M283: 體育室
A284: 46304 | B284: =A284 -> 46304 | M284: 體育室
A285: 46305 | B285: =A285 -> 46305 | M285: 體育室
A286: 46306 | B286: =A286 -> 46306 | M286: 體育室
A287: 46307 | B287: =A287 -> 46307 | M287: 體育室
A288: 46308 | B288: =A288 -> 46308 | M288: 體育室
A289: 46309 | B289: =A289 -> 46309 | M289: 體育室
A290: 46310 | B290: =A290 -> 46310 | M290: 體育室
A291: 46311 | B291: =A291 -> 46311 | M291: 體育室
... A297: 46317 | B297: =A297 -> 46317 | M297: 體育室
A298: 46318 | B298: =A298 -> 46318 | L298: 秘書室 | M298: 體育室
A299: 46319 | B299: =A299 -> 46319 | L299: 秘書室 | M299: 體育室
A300: 46320 | B300: =A300 -> 46320 | L300: 秘書室 | M300: 體育室
A301: 46321 | B301: =A301 -> 46321 | L301: 秘書室 | M301: 體育室
A302: 46322 | B302: =A302 -> 46322 | L302: 秘書室 | M302: 體育室
A303: 46323 | B303: =A303 -> 46323 | L303: 秘書室 | M303: 體育室
A304: 46324 | B304: =A304 -> 46324 | G304: 化學系 | H304: 化學系 | I304: 化學系 | J304: 化學系 | K304: 化學系 | L304: 秘書室 | M304: 體育室
A305: 46325 | B305: =A305 -> 46325 | G305: 化學系 | H305: 化學系 | I305: 化學系 | J305: 化學系 | K305: 化學系 | L305: 秘書室 | M305: 體育室
A306: 46326 | B306: =A306 -> 46326 | G306: 化學系 | H306: 化學系 | I306: 化學系 | J306: 化學系 | K306: 化學系 | L306: 秘書室 | M306: 體育室
A307: 46327 | B307: =A307 -> 46327 | G307: 化學系 | H307: 化學系 | I307: 化學系 | J307: 化學系 | K307: 化學系 | L307: 秘書室 | M307: 體育室
A308: 46328 | B308: =A308 -> 46328 | G308: 化學系 | H308: 化學系 | I308: 化學系 | J308: 化學系 | K308: 化學系 | L308: 秘書室
A309: 46329 | B309: =A309 -> 46329
A310: 46330 | B310: =A310 -> 46330
...

Sheet G區
A1: =A區!A1 -> 租借情形 | T1: 近期更新之日期 | U1: 查詢下2個月 | V1: 下3個月 | W1: 下4個月
A2: 日期 | B2: 星期 | C2: G1 | D2: G2 | E2: G3 | F2: G4 | G2: G5 | H2: G6 | I2: G7 | J2: G8 | K2: G9 | L2: G10 | M2: G11 | N2: G12 | O2: G12-1 | P2: G13 | Q2: G14(不明顯) | R2: G15(不明顯) | S2: G16(不明顯) | T2: =TODAY() -> 46315 | U2: 查詢下個月 | V2: 返回開頭
A3: 46023 | B3: =A3 -> 46023
A4: 46024 | B4: =A4 -> 46024
A5: 46025 | B5: =A5 -> 46025
A6: 46026 | B6: =A6 -> 46026
A7: 46027 | B7: =A7 -> 46027
A8: 46028 | B8: =A8 -> 46028
A9: 46029 | B9: =A9 -> 46029
A10: 46030 | B10: =A10 -> 46030
A11: 46031 | B11: =A11 -> 46031
A12: 46032 | B12: =A12 -> 46032
A13: 46033 | B13: =A13 -> 46033
A14: 46034 | B14: =A14 -> 46034
... A58: 46078 | B58: =A58 -> 46078
A59: 46079 | B59: =A59 -> 46079 | L59: 化學系 | M59: 化學系 | N59: 化學系
A60: 46080 | B60: =A60 -> 46080 | L60: 化學系 | M60: 化學系 | N60: 化學系
A61: 46081 | B61: =A61 -> 46081 | L61: 化學系 | M61: 化學系 | N61: 化學系
A62: 46082 | B62: =A62 -> 46082 | L62: 化學系 | M62: 化學系 | N62: 化學系
A63: 46083 | B63: =A63 -> 46083 | L63: 化學系 | M63: 化學系 | N63: 化學系
A64: 46084 | B64: =A64 -> 46084 | L64: 化學系 | M64: 化學系 | N64: 化學系
A65: 46085 | B65: =A65 -> 46085 | L65: 化學系 | M65: 化學系 | N65: 化學系
A66: 46086 | B66: =A66 -> 46086 | L66: 化學系 | M66: 化學系 | N66: 化學系
A67: 46087 | B67: =A67 -> 46087 | L67: 化學系 | M67: 化學系 | N67: 化學系
A68: 46088 | B68: =A68 -> 46088 | L68: 化學系 | M68: 化學系 | N68: 化學系
A69: 46089 | B69: =A69 -> 46089 | L69: 化學系 | M69: 化學系 | N69: 化學系
A70: 46090 | B70: =A70 -> 46090 | L70: 化學系 | M70: 化學系 | N70: 化學系
A71: 46091 | B71: =A71 -> 46091
A72: 46092 | B72: =A72 -> 46092
A73: 46093 | B73: =A73 -> 46093
A74: 46094 | B74: =A74 -> 46094
A75: 46095 | B75: =A75 -> 46095
A76: 46096 | B76: =A76 -> 46096
A77: 46097 | B77: =A77 -> 46097
A78: 46098 | B78: =A78 -> 46098
A79: 46099 | B79: =A79 -> 46099
A80: 46100 | B80: =A80 -> 46100
A81: 46101 | B81: =A81 -> 46101
A82: 46102 | B82: =A82 -> 46102
... A98: 46118 | B98: =A98 -> 46118
A99: 46119 | B99: =A99 -> 46119 | C99: 動科 | F99: 動科 | G99: 動科 | I99: 動科 | K99: 動科
A100: 46120 | B100: =A100 -> 46120 | C100: 動科 | F100: 動科 | G100: 動科 | I100: 動科 | K100: 動科
A101: 46121 | B101: =A101 -> 46121 | C101: 動科 | F101: 動科 | G101: 動科 | I101: 動科 | K101: 動科
A102: 46122 | B102: =A102 -> 46122 | C102: 動科 | F102: 動科 | G102: 動科 | I102: 動科 | K102: 動科
A103: 46123 | B103: =A103 -> 46123 | C103: 動科 | F103: 動科 | G103: 動科 | I103: 動科 | K103: 動科
A104: 46124 | B104: =A104 -> 46124 | C104: 動科 | F104: 動科 | G104: 動科 | I104: 動科 | K104: 動科
A105: 46125 | B105: =A105 -> 46125 | C105: 動科 | F105: 動科 | G105: 動科 | H105: 土環 | I105: 動科 | J105: 土環 | K105: 動科
A106: 46126 | B106: =A106 -> 46126 | C106: 動科 | F106: 動科 | G106: 動科 | H106: 土環 | I106: 動科 | J106: 土環 | K106: 動科
A107: 46127 | B107: =A107 -> 46127 | C107: 動科 | F107: 動科 | G107: 動科 | H107: 土環 | I107: 動科 | J107: 土環 | K107: 動科
A108: 46128 | B108: =A108 -> 46128 | C108: 動科 | F108: 動科 | G108: 動科 | H108: 土環 | I108: 動科 | J108: 土環 | K108: 動科
A109: 46129 | B109: =A109 -> 46129 | C109: 動科 | F109: 動科 | G109: 動科 | H109: 土環 | I109: 動科 | J109: 土環 | K109: 動科
A110: 46130 | B110: =A110 -> 46130 | C110: 動科 | F110: 動科 | G110: 動科 | H110: 土環 | I110: 動科 | J110: 土環 | K110: 動科
A111: 46131 | B111: =A111 -> 46131 | C111: 動科 | F111: 動科 | G111: 動科 | H111: 土環 | I111: 動科 | J111: 土環 | K111: 動科
A112: 46132 | B112: =A112 -> 46132 | C112: 動科 | F112: 動科 | G112: 動科 | H112: 土環 | I112: 動科 | J112: 土環 | K112: 動科
A113: 46133 | B113: =A113 -> 46133 | C113: 動科 | F113: 動科 | G113: 動科 | H113: 土環 | I113: 動科 | J113: 土環 | K113: 動科
A114: 46134 | B114: =A114 -> 46134 | C114: 動科 | F114: 動科 | G114: 動科 | H114: 土環 | I114: 動科 | J114: 土環 | K114: 動科
A115: 46135 | B115: =A115 -> 46135 | C115: 動科 | F115: 動科 | G115: 動科 | H115: 土環 | I115: 動科 | J115: 土環 | K115: 動科
A116: 46136 | B116: =A116 -> 46136 | C116: 動科 | D116: 台文 | E116: 台文 | F116: 動科 | G116: 動科 | H116: 土環 | I116: 動科 | J116: 土環 | K116: 動科
A117: 46137 | B117: =A117 -> 46137 | C117: 動科 | D117: 台文 | E117: 台文 | F117: 動科 | G117: 動科 | H117: 土環 | I117: 動科 | J117: 土環 | K117: 動科
A118: 46138 | B118: =A118 -> 46138 | C118: 動科 | D118: 台文 | E118: 台文 | F118: 動科 | G118: 動科 | H118: 土環 | I118: 動科 | J118: 土環 | K118: 動科
A119: 46139 | B119: =A119 -> 46139 | C119: 動科 | D119: 台文 | E119: 台文 | F119: 動科 | G119: 動科 | H119: 土環 | I119: 動科 | J119: 土環 | K119: 動科
A120: 46140 | B120: =A120 -> 46140 | D120: 台文 | E120: 台文 | H120: 土環 | J120: 土環
A121: 46141 | B121: =A121 -> 46141 | D121: 台文 | E121: 台文 | H121: 土環 | J121: 土環
A122: 46142 | B122: =A122 -> 46142 | D122: 台文 | E122: 台文 | H122: 土環 | J122: 土環
A123: 46143 | B123: =A123 -> 46143 | D123: 台文 | E123: 台文 | H123: 土環 | J123: 土環
A124: 46144 | B124: =A124 -> 46144 | D124: 台文 | E124: 台文 | H124: 土環 | J124: 土環
A125: 46145 | B125: =A125 -> 46145 | C125: 水保 | D125: 台文 | E125: 台文 | F125: 水保 | J125: 水保 | L125: 水保 | N125: 水保
A126: 46146 | B126: =A126 -> 46146 | C126: 水保 | D126: 台文 | E126: 台文 | F126: 水保 | G126: 農藝系 | J126: 水保 | L126: 水保 | N126: 水保
A127: 46147 | B127: =A127 -> 46147 | C127: 水保 | D127: 台文 | E127: 台文 | F127: 水保 | G127: 農藝系 | J127: 水保 | L127: 水保 | N127: 水保
A128: 46148 | B128: =A128 -> 46148 | C128: 水保 | D128: 台文 | E128: 台文 | F128: 水保 | G128: 農藝系 | J128: 水保 | L128: 水保 | N128: 水保
A129: 46149 | B129: =A129 -> 46149 | C129: 水保 | D129: 台文 | E129: 台文 | F129: 水保 | G129: 農藝系 | J129: 水保 | L129: 水保 | N129: 水保
A130: 46150 | B130: =A130 -> 46150 | C130: 水保 | D130: 台文 | E130: 台文 | F130: 水保 | G130: 農藝系 | J130: 水保 | L130: 水保 | N130: 水保
A131: 46151 | B131: =A131 -> 46151 | C131: 水保 | D131: 台文 | E131: 台文 | F131: 水保 | G131: 農藝系 | J131: 水保 | L131: 水保 | N131: 水保
A132: 46152 | B132: =A132 -> 46152 | D132: 台文 | E132: 台文 | G132: 農藝系
A133: 46153 | B133: =A133 -> 46153 | C133: 生輔組 | D133: 台文 | E133: 台文 | F133: 生輔組 | G133: 農藝系 | H133: 生輔組 | J133: 生輔組 | L133: 生輔組 | N133: 生輔組 | P133: 生輔組 | R133: 生輔組
A134: 46154 | B134: =A134 -> 46154 | C134: 生輔組 | D134: 台文 | E134: 台文 | F134: 生輔組 | G134: 農藝系 | H134: 生輔組 | J134: 生輔組 | L134: 生輔組 | N134: 生輔組 | P134: 生輔組 | R134: 生輔組
A135: 46155 | B135: =A135 -> 46155 | C135: 生輔組 | D135: 台文 | E135: 台文 | F135: 生輔組 | G135: 農藝系 | H135: 生輔組 | J135: 生輔組 | L135: 生輔組 | N135: 生輔組 | P135: 生輔組 | R135: 生輔組
A136: 46156 | B136: =A136 -> 46156 | C136: 生輔組 | D136: 台文 | E136: 台文 | F136: 生輔組 | G136: 農藝系 | H136: 生輔組 | J136: 生輔組 | L136: 生輔組 | N136: 生輔組 | P136: 生輔組 | R136: 生輔組
A137: 46157 | B137: =A137 -> 46157 | C137: 生輔組 | D137: 台文 | E137: 台文 | F137: 生輔組 | G137: 農藝系 | H137: 生輔組 | J137: 生輔組 | L137: 生輔組 | N137: 生輔組 | P137: 生輔組 | R137: 生輔組
A138: 46158 | B138: =A138 -> 46158 | C138: 生輔組 | D138: 台文 | E138: 台文 | F138: 生輔組 | G138: 農藝系 | H138: 生輔組 | J138: 生輔組 | L138: 生輔組 | N138: 生輔組 | P138: 生輔組 | R138: 生輔組
A139: 46159 | B139: =A139 -> 46159 | C139: 生輔組 | D139: 台文 | E139: 台文 | F139: 生輔組 | G139: 農藝系 | H139: 生輔組 | J139: 生輔組 | L139: 生輔組 | N139: 生輔組 | P139: 生輔組 | R139: 生輔組
A140: 46160 | B140: =A140 -> 46160 | C140: 生輔組 | D140: 台文 | E140: 台文 | F140: 生輔組 | H140: 生輔組 | J140: 生輔組 | L140: 生輔組 | N140: 生輔組 | P140: 生輔組 | R140: 生輔組
A141: 46161 | B141: =A141 -> 46161 | C141: 生輔組 | D141: 台文 | E141: 台文 | F141: 生輔組 | G141: 獸醫 | H141: 生輔組 | I141: 獸醫 | J141: 生輔組 | K141: 獸醫 | L141: 生輔組 | M141: 獸醫 | N141: 生輔組 | P141: 生輔組 | R141: 生輔組
A142: 46162 | B142: =A142 -> 46162 | C142: 生輔組 | D142: 台文 | E142: 台文 | F142: 生輔組 | G142: 獸醫 | H142: 生輔組 | I142: 獸醫 | J142: 生輔組 | K142: 獸醫 | L142: 生輔組 | M142: 獸醫 | N142: 生輔組 | P142: 生輔組 | R142: 生輔組
A143: 46163 | B143: =A143 -> 46163 | C143: 生輔組 | D143: 台文 | E143: 台文 | F143: 生輔組 | G143: 獸醫 | H143: 生輔組 | I143: 獸醫 | J143: 生輔組 | K143: 獸醫 | L143: 生輔組 | M143: 獸醫 | N143: 生輔組 | P143: 生輔組 | R143: 生輔組
A144: 46164 | B144: =A144 -> 46164 | C144: 生輔組 | D144: 台文 | E144: 台文 | F144: 生輔組 | G144: 獸醫 | H144: 生輔組 | I144: 獸醫 | J144: 生輔組 | K144: 獸醫 | L144: 生輔組 | M144: 獸醫 | N144: 生輔組 | P144: 生輔組 | R144: 生輔組
A145: 46165 | B145: =A145 -> 46165 | C145: 生輔組 | D145: 台文 | E145: 台文 | F145: 生輔組 | G145: 獸醫 | H145: 生輔組 | I145: 獸醫 | J145: 生輔組 | K145: 獸醫 | L145: 生輔組 | M145: 獸醫 | N145: 生輔組 | P145: 生輔組 | R145: 生輔組
A146: 46166 | B146: =A146 -> 46166 | C146: 生輔組 | F146: 生輔組 | G146: 獸醫 | H146: 生輔組 | I146: 獸醫 | J146: 生輔組 | K146: 獸醫 | L146: 生輔組 | M146: 獸醫 | N146: 生輔組 | P146: 生輔組 | R146: 生輔組
A147: 46167 | B147: =A147 -> 46167 | C147: 生輔組 | F147: 生輔組 | G147: 獸醫 | H147: 生輔組 | I147: 獸醫 | J147: 生輔組 | K147: 獸醫 | L147: 生輔組 | M147: 獸醫 | N147: 生輔組 | P147: 生輔組 | R147: 生輔組
A148: 46168 | B148: =A148 -> 46168 | C148: 生輔組 | F148: 生輔組 | G148: 獸醫 | H148: 生輔組 | I148: 獸醫 | J148: 生輔組 | K148: 獸醫 | L148: 生輔組 | M148: 獸醫 | N148: 生輔組 | P148: 生輔組 | R148: 生輔組
A149: 46169 | B149: =A149 -> 46169 | C149: 生輔組 | F149: 生輔組 | G149: 獸醫 | H149: 生輔組 | I149: 獸醫 | J149: 生輔組 | K149: 獸醫 | L149: 生輔組 | M149: 獸醫 | N149: 生輔組 | P149: 生輔組 | R149: 生輔組
A150: 46170 | B150: =A150 -> 46170 | C150: 生輔組 | F150: 生輔組 | G150: 獸醫 | H150: 生輔組 | I150: 獸醫 | J150: 生輔組 | K150: 獸醫 | L150: 生輔組 | M150: 獸醫 | N150: 生輔組 | P150: 生輔組 | R150: 生輔組
A151: 46171 | B151: =A151 -> 46171 | C151: 生輔組 | F151: 生輔組 | G151: 獸醫 | H151: 生輔組 | I151: 獸醫 | J151: 生輔組 | K151: 獸醫 | L151: 生輔組 | M151: 獸醫 | N151: 生輔組 | P151: 生輔組 | R151: 生輔組
A152: 46172 | B152: =A152 -> 46172 | C152: 生輔組 | F152: 生輔組 | G152: 獸醫 | H152: 生輔組 | I152: 獸醫 | J152: 生輔組 | K152: 獸醫 | L152: 生輔組 | M152: 獸醫 | N152: 生輔組 | P152: 生輔組 | R152: 生輔組
A153: 46173 | B153: =A153 -> 46173 | C153: 生輔組 | F153: 生輔組 | G153: 獸醫 | H153: 生輔組 | I153: 獸醫 | J153: 生輔組 | K153: 獸醫 | L153: 生輔組 | M153: 獸醫 | N153: 生輔組 | P153: 生輔組 | R153: 生輔組
A154: 46174 | B154: =A154 -> 46174 | C154: 生輔組 | F154: 生輔組 | H154: 生輔組 | J154: 生輔組 | L154: 生輔組 | N154: 生輔組 | P154: 生輔組 | R154: 生輔組
A155: 46175 | B155: =A155 -> 46175
A156: 46176 | B156: =A156 -> 46176
A157: 46177 | B157: =A157 -> 46177
A158: 46178 | B158: =A158 -> 46178
...

Sheet H區
A1: =A區!A1 -> 租借情形 | S1: 近期更新之日期 | T1: 查詢下2個月 | U1: 下3個月 | V1: 下4個月
A2: 日期 | B2: 星期 | C2: H1 | D2: H2 | E2: H3 | F2: H4 | G2: H5 | H2: H6 | I2: H7 | J2: H8 | K2: H9 | L2: H10 | M2: H11 | N2: H12 | O2: H13 | P2: H14 | Q2: H15 | R2: H16 | S2: =TODAY() -> 46315 | T2: 查詢下個月 | U2: 返回開頭
A3: 46023 | B3: =A3 -> 46023
A4: 46024 | B4: =A4 -> 46024
A5: 46025 | B5: =A5 -> 46025
A6: 46026 | B6: =A6 -> 46026
A7: 46027 | B7: =A7 -> 46027
A8: 46028 | B8: =A8 -> 46028
A9: 46029 | B9: =A9 -> 46029
A10: 46030 | B10: =A10 -> 46030
A11: 46031 | B11: =A11 -> 46031
A12: 46032 | B12: =A12 -> 46032
A13: 46033 | B13: =A13 -> 46033
A14: 46034 | B14: =A14 -> 46034
... A70: 46090 | B70: =A70 -> 46090
A71: 46091 | B71: =A71 -> 46091 | F71: 生發 | H71: 生發 | J71: 生發 | L71: 生發 | M71: 生發 | O71: 生發 | Q71: 生發
A72: 46092 | B72: =A72 -> 46092 | F72: 生發 | H72: 生發 | J72: 生發 | L72: 生發 | M72: 生發 | O72: 生發 | Q72: 生發
A73: 46093 | B73: =A73 -> 46093 | F73: 生發 | H73: 生發 | J73: 生發 | L73: 生發 | M73: 生發 | O73: 生發 | Q73: 生發
A74: 46094 | B74: =A74 -> 46094 | F74: 生發 | H74: 生發 | J74: 生發 | L74: 生發 | M74: 生發 | O74: 生發 | Q74: 生發
A75: 46095 | B75: =A75 -> 46095 | F75: 生發 | H75: 生發 | J75: 生發 | L75: 生發 | M75: 生發 | O75: 生發 | Q75: 生發
A76: 46096 | B76: =A76 -> 46096 | F76: 生發 | H76: 生發 | J76: 生發 | L76: 生發 | M76: 生發 | O76: 生發 | Q76: 生發
A77: 46097 | B77: =A77 -> 46097 | F77: 生發 | H77: 生發 | J77: 生發 | L77: 生發 | M77: 生發 | O77: 生發 | Q77: 生發
A78: 46098 | B78: =A78 -> 46098 | F78: 生發 | H78: 生發 | J78: 生發 | L78: 生發 | M78: 生發 | O78: 生發 | Q78: 生發
A79: 46099 | B79: =A79 -> 46099 | F79: 生發 | H79: 生發 | J79: 生發 | L79: 生發 | M79: 生發 | O79: 生發 | Q79: 生發
A80: 46100 | B80: =A80 -> 46100 | F80: 生發 | H80: 生發 | J80: 生發 | L80: 生發 | M80: 生發 | O80: 生發 | Q80: 生發
A81: 46101 | B81: =A81 -> 46101 | F81: 生發 | H81: 生發 | J81: 生發 | L81: 生發 | M81: 生發 | O81: 生發 | Q81: 生發
A82: 46102 | B82: =A82 -> 46102 | F82: 生發 | H82: 生發 | J82: 生發 | L82: 生發 | M82: 生發 | O82: 生發 | Q82: 生發
... A84: 46104 | B84: =A84 -> 46104 | F84: 生發 | H84: 生發 | J84: 生發 | L84: 生發 | M84: 生發 | O84: 生發 | Q84: 生發
A85: 46105 | B85: =A85 -> 46105
A86: 46106 | B86: =A86 -> 46106
A87: 46107 | B87: =A87 -> 46107
A88: 46108 | B88: =A88 -> 46108
A89: 46109 | B89: =A89 -> 46109
A90: 46110 | B90: =A90 -> 46110
A91: 46111 | B91: =A91 -> 46111
A92: 46112 | B92: =A92 -> 46112
A93: 46113 | B93: =A93 -> 46113
A94: 46114 | B94: =A94 -> 46114 | D94: 動科 | E94: 動科
A95: 46115 | B95: =A95 -> 46115 | D95: 動科 | E95: 動科
A96: 46116 | B96: =A96 -> 46116 | D96: 動科 | E96: 動科
A97: 46117 | B97: =A97 -> 46117 | D97: 動科 | E97: 動科
A98: 46118 | B98: =A98 -> 46118 | D98: 動科 | E98: 動科
A99: 46119 | B99: =A99 -> 46119 | D99: 動科 | E99: 動科
A100: 46120 | B100: =A100 -> 46120 | D100: 動科 | E100: 動科
A101: 46121 | B101: =A101 -> 46121 | D101: 動科 | E101: 動科
A102: 46122 | B102: =A102 -> 46122 | D102: 動科 | E102: 動科
A103: 46123 | B103: =A103 -> 46123 | D103: 動科 | E103: 動科
A104: 46124 | B104: =A104 -> 46124 | D104: 動科 | E104: 動科
A105: 46125 | B105: =A105 -> 46125 | C105: 土環 | D105: 動科 | E105: 動科
A106: 46126 | B106: =A106 -> 46126 | C106: 土環 | D106: 動科 | E106: 動科
A107: 46127 | B107: =A107 -> 46127 | C107: 土環 | D107: 動科 | E107: 動科
A108: 46128 | B108: =A108 -> 46128 | C108: 土環 | D108: 動科 | E108: 動科
A109: 46129 | B109: =A109 -> 46129 | C109: 土環 | D109: 動科 | E109: 動科
A110: 46130 | B110: =A110 -> 46130 | C110: 土環 | D110: 動科 | E110: 動科
A111: 46131 | B111: =A111 -> 46131 | C111: 土環 | D111: 動科 | E111: 動科
A112: 46132 | B112: =A112 -> 46132 | C112: 土環 | D112: 動科 | E112: 動科
A113: 46133 | B113: =A113 -> 46133 | C113: 土環 | D113: 動科 | E113: 動科
A114: 46134 | B114: =A114 -> 46134 | C114: 土環 | D114: 動科 | E114: 動科 | M114: 市府 | O114: 市府
A115: 46135 | B115: =A115 -> 46135 | C115: 土環 | D115: 動科 | E115: 動科 | M115: 市府 | O115: 市府 | P115: 台文
A116: 46136 | B116: =A116 -> 46136 | C116: 土環 | D116: 動科 | E116: 動科 | M116: 市府 | O116: 市府 | P116: 台文
A117: 46137 | B117: =A117 -> 46137 | C117: 土環 | D117: 動科 | E117: 動科 | M117: 市府 | O117: 市府 | P117: 台文
A118: 46138 | B118: =A118 -> 46138 | C118: 土環 | D118: 動科 | E118: 動科 | P118: 台文
A119: 46139 | B119: =A119 -> 46139 | C119: 土環 | D119: 動科 | E119: 動科 | J119: 原資 | L119: 原資 | M119: 原資 | O119: 原資 | P119: 台文 | Q119: 生發中心 | R119: 生發中心
A120: 46140 | B120: =A120 -> 46140 | C120: 土環 | J120: 原資 | L120: 原資 | M120: 原資 | O120: 原資 | P120: 台文 | Q120: 生發中心 | R120: 生發中心
A121: 46141 | B121: =A121 -> 46141 | C121: 土環 | J121: 原資 | L121: 原資 | M121: 原資 | O121: 原資 | P121: 台文 | Q121: 生發中心 | R121: 生發中心
A122: 46142 | B122: =A122 -> 46142 | C122: 土環 | J122: 原資 | L122: 原資 | M122: 原資 | O122: 原資 | P122: 台文 | Q122: 生發中心 | R122: 生發中心
A123: 46143 | B123: =A123 -> 46143 | C123: 土環 | J123: 原資 | L123: 原資 | M123: 原資 | O123: 原資 | P123: 台文 | Q123: 生發中心 | R123: 生發中心
A124: 46144 | B124: =A124 -> 46144 | C124: 土環 | J124: 原資 | L124: 原資 | M124: 原資 | O124: 原資 | P124: 台文 | Q124: 生發中心 | R124: 生發中心
A125: 46145 | B125: =A125 -> 46145 | F125: 水保 | I125: 水保 | J125: 原資 | K125: 水保 | L125: 原資 | M125: 原資 | N125: 水保 | O125: 原資 | P125: 台文 | Q125: 生發中心 | R125: 生發中心
A126: 46146 | B126: =A126 -> 46146 | D126: 農藝系 | F126: 水保 | I126: 水保 | J126: 原資 | K126: 水保 | L126: 原資 | M126: 原資 | N126: 水保 | O126: 原資 | P126: 台文 | Q126: 生發中心 | R126: 生發中心
A127: 46147 | B127: =A127 -> 46147 | D127: 農藝系 | F127: 水保 | I127: 水保 | J127: 原資 | K127: 水保 | L127: 原資 | M127: 原資 | N127: 水保 | O127: 原資 | P127: 台文 | Q127: 生發中心 | R127: 生發中心
A128: 46148 | B128: =A128 -> 46148 | D128: 農藝系 | F128: 水保 | I128: 水保 | J128: 原資 | K128: 水保 | L128: 原資 | M128: 原資 | N128: 水保 | O128: 原資 | P128: 台文 | Q128: 生發中心 | R128: 生發中心
A129: 46149 | B129: =A129 -> 46149 | D129: 農藝系 | F129: 水保 | I129: 水保 | J129: 原資 | K129: 水保 | L129: 原資 | M129: 原資 | N129: 水保 | O129: 原資 | P129: 台文 | Q129: 生發中心 | R129: 生發中心
A130: 46150 | B130: =A130 -> 46150 | D130: 農藝系 | F130: 水保 | I130: 水保 | J130: 原資 | K130: 水保 | L130: 原資 | M130: 原資 | N130: 水保 | O130: 原資 | P130: 台文 | Q130: 生發中心 | R130: 生發中心
A131: 46151 | B131: =A131 -> 46151 | D131: 農藝系 | F131: 水保 | I131: 水保 | K131: 水保 | N131: 水保 | P131: 台文
A132: 46152 | B132: =A132 -> 46152 | D132: 農藝系 | P132: 台文
A133: 46153 | B133: =A133 -> 46153 | C133: 生輔組 | D133: 農藝系 | E133: 生輔組 | F133: 生輔組 | G133: 生輔組 | H133: 生輔組 | I133: 生輔組 | J133: 生輔組 | K133: 生輔組 | L133: 生輔組 | M133: 生輔組 | O133: 生輔組 | P133: 台文 | Q133: 生輔組
A134: 46154 | B134: =A134 -> 46154 | C134: 生輔組 | D134: 農藝系 | E134: 生輔組 | F134: 生輔組 | G134: 生輔組 | H134: 生輔組 | I134: 生輔組 | J134: 生輔組 | K134: 生輔組 | L134: 生輔組 | M134: 生輔組 | O134: 生輔組 | P134: 台文 | Q134: 生輔組
A135: 46155 | B135: =A135 -> 46155 | C135: 生輔組 | D135: 農藝系 | E135: 生輔組 | F135: 生輔組 | G135: 生輔組 | H135: 生輔組 | I135: 生輔組 | J135: 生輔組 | K135: 生輔組 | L135: 生輔組 | M135: 生輔組 | O135: 生輔組 | P135: 台文 | Q135: 生輔組
A136: 46156 | B136: =A136 -> 46156 | C136: 生輔組 | D136: 農藝系 | E136: 生輔組 | F136: 生輔組 | G136: 生輔組 | H136: 生輔組 | I136: 生輔組 | J136: 生輔組 | K136: 生輔組 | L136: 生輔組 | M136: 生輔組 | O136: 生輔組 | P136: 台文 | Q136: 生輔組
A137: 46157 | B137: =A137 -> 46157 | C137: 生輔組 | D137: 農藝系 | E137: 生輔組 | F137: 生輔組 | G137: 生輔組 | H137: 生輔組 | I137: 生輔組 | J137: 生輔組 | K137: 生輔組 | L137: 生輔組 | M137: 生輔組 | O137: 生輔組 | P137: 台文 | Q137: 生輔組
A138: 46158 | B138: =A138 -> 46158 | C138: 生輔組 | D138: 農藝系 | E138: 生輔組 | F138: 生輔組 | G138: 生輔組 | H138: 生輔組 | I138: 生輔組 | J138: 生輔組 | K138: 生輔組 | L138: 生輔組 | M138: 生輔組 | O138: 生輔組 | P138: 台文 | Q138: 生輔組
A139: 46159 | B139: =A139 -> 46159 | C139: 生輔組 | D139: 農藝系 | E139: 生輔組 | F139: 生輔組 | G139: 生輔組 | H139: 生輔組 | I139: 生輔組 | J139: 生輔組 | K139: 生輔組 | L139: 生輔組 | M139: 生輔組 | O139: 生輔組 | P139: 台文 | Q139: 生輔組
A140: 46160 | B140: =A140 -> 46160 | C140: 生輔組 | E140: 生輔組 | F140: 生輔組 | G140: 生輔組 | H140: 生輔組 | I140: 生輔組 | J140: 生輔組 | K140: 生輔組 | L140: 生輔組 | M140: 生輔組 | N140: 景觀系 | O140: 生輔組 | P140: 台文 | Q140: 生輔組
A141: 46161 | B141: =A141 -> 46161 | C141: 生輔組 | D141: 獸醫 | E141: 生輔組 | F141: 生輔組 | G141: 生輔組 | H141: 生輔組 | I141: 生輔組 | J141: 生輔組 | K141: 生輔組 | L141: 生輔組 | M141: 生輔組 | N141: 景觀系 | O141: 生輔組 | P141: 台文 | Q141: 生輔組
A142: 46162 | B142: =A142 -> 46162 | C142: 生輔組 | D142: 獸醫 | E142: 生輔組 | F142: 生輔組 | G142: 生輔組 | H142: 生輔組 | I142: 生輔組 | J142: 生輔組 | K142: 生輔組 | L142: 生輔組 | M142: 生輔組 | N142: 景觀系 | O142: 生輔組 | P142: 台文 | Q142: 生輔組
A143: 46163 | B143: =A143 -> 46163 | C143: 生輔組 | D143: 獸醫 | E143: 生輔組 | F143: 生輔組 | G143: 生輔組 | H143: 生輔組 | I143: 生輔組 | J143: 生輔組 | K143: 生輔組 | L143: 生輔組 | M143: 生輔組 | N143: 景觀系 | O143: 生輔組 | P143: 台文 | Q143: 生輔組
A144: 46164 | B144: =A144 -> 46164 | C144: 生輔組 | D144: 獸醫 | E144: 生輔組 | F144: 生輔組 | G144: 生輔組 | H144: 生輔組 | I144: 生輔組 | J144: 生輔組 | K144: 生輔組 | L144: 生輔組 | M144: 生輔組 | N144: 景觀系 | O144: 生輔組 | P144: 台文 | Q144: 生輔組
A145: 46165 | B145: =A145 -> 46165 | C145: 生輔組 | D145: 獸醫 | E145: 生輔組 | F145: 生輔組 | G145: 生輔組 | H145: 生輔組 | I145: 生輔組 | J145: 生輔組 | K145: 生輔組 | L145: 生輔組 | M145: 生輔組 | N145: 景觀系 | O145: 生輔組 | P145: 台文 | Q145: 生輔組
A146: 46166 | B146: =A146 -> 46166 | C146: 生輔組 | D146: 獸醫 | E146: 生輔組 | F146: 生輔組 | G146: 生輔組 | H146: 生輔組 | I146: 生輔組 | J146: 生輔組 | K146: 生輔組 | L146: 生輔組 | M146: 生輔組 | N146: 景觀系 | O146: 生輔組 | Q146: 生輔組
A147: 46167 | B147: =A147 -> 46167 | C147: 生輔組 | D147: 獸醫 | E147: 生輔組 | F147: 生輔組 | G147: 生輔組 | H147: 生輔組 | I147: 生輔組 | J147: 生輔組 | K147: 生輔組 | L147: 生輔組 | M147: 生輔組 | O147: 生輔組 | Q147: 生輔組
A148: 46168 | B148: =A148 -> 46168 | C148: 生輔組 | D148: 獸醫 | E148: 生輔組 | F148: 生輔組 | G148: 生輔組 | H148: 生輔組 | I148: 生輔組 | J148: 生輔組 | K148: 生輔組 | L148: 生輔組 | M148: 生輔組 | O148: 生輔組 | Q148: 生輔組
A149: 46169 | B149: =A149 -> 46169 | C149: 生輔組 | D149: 獸醫 | E149: 生輔組 | F149: 生輔組 | G149: 生輔組 | H149: 生輔組 | I149: 生輔組 | J149: 生輔組 | K149: 生輔組 | L149: 生輔組 | M149: 生輔組 | O149: 生輔組 | Q149: 生輔組
A150: 46170 | B150: =A150 -> 46170 | C150: 生輔組 | D150: 獸醫 | E150: 生輔組 | F150: 生輔組 | G150: 生輔組 | H150: 生輔組 | I150: 生輔組 | J150: 生輔組 | K150: 生輔組 | L150: 生輔組 | M150: 生輔組 | O150: 生輔組 | Q150: 生輔組
A151: 46171 | B151: =A151 -> 46171 | C151: 生輔組 | D151: 獸醫 | E151: 生輔組 | F151: 生輔組 | G151: 生輔組 | H151: 生輔組 | I151: 生輔組 | J151: 生輔組 | K151: 生輔組 | L151: 生輔組 | M151: 生輔組 | O151: 生輔組 | Q151: 生輔組
A152: 46172 | B152: =A152 -> 46172 | C152: 生輔組 | D152: 獸醫 | E152: 生輔組 | F152: 生輔組 | G152: 生輔組 | H152: 生輔組 | I152: 生輔組 | J152: 生輔組 | K152: 生輔組 | L152: 生輔組 | M152: 生輔組 | O152: 生輔組 | Q152: 生輔組
A153: 46173 | B153: =A153 -> 46173 | C153: 生輔組 | D153: 獸醫 | E153: 生輔組 | F153: 生輔組 | G153: 生輔組 | H153: 生輔組 | I153: 生輔組 | J153: 生輔組 | K153: 生輔組 | L153: 生輔組 | M153: 生輔組 | O153: 生輔組 | Q153: 生輔組
A154: 46174 | B154: =A154 -> 46174 | C154: 生輔組 | E154: 生輔組 | F154: 生輔組 | G154: 生輔組 | H154: 生輔組 | I154: 生輔組 | J154: 生輔組 | K154: 生輔組 | L154: 生輔組 | M154: 生輔組 | O154: 生輔組 | Q154: 生輔組
A155: 46175 | B155: =A155 -> 46175
A156: 46176 | B156: =A156 -> 46176
...
