Workbook

Sheet 朝北地圖

Sheet A區
A1: 租借情形 | Q1: 更新之日期 | R1: 查詢下2個月 | S1: 下3個月 | T1: 下4個月
A2: 日期 | B2: 星期 | C2: A1 | D2: A2 | E2: A3 | F2: A4(測速器) | G2: A5 | H2: A6 | I2: A7 | J2: A8 | K2: A8-1 | L2: A9 | M2: A9-1 | N2: A10 | O2: A10-1 | P2: A10-2 | Q2: =TODAY() -> 46315 | R2: 查詢下個月 | S2: 返回開頭
A3: 46023 | B3: =A3 -> 46023
A4: 46024 | B4: =A4 -> 46024
A5: 46025 | B5: =A5 -> 46025
A6: 46026 | B6: =A6 -> 46026
A7: 46027 | B7: =A7 -> 46027
A8: 46028 | B8: =A8 -> 46028
A9: 46029 | B9: =A9 -> 46029
A10: 46030 | B10: =A10 -> 46030
A11: 46031 | B11: =A11 -> 46031
A12: 46032 | B12: =A12 -> 46032
A13: 46033 | B13: =A13 -> 46033
A14: 46034 | B14: =A14 -> 46034
... A58: 46078 | B58: =A58 -> 46078
A59: 46079 | B59: =A59 -> 46079 | G59: 化學系 | H59: 化學系 | I59: 化學系 | J59: 化學系
A60: 46080 | B60: =A60 -> 46080 | G60: 化學系 | H60: 化學系 | I60: 化學系 | J60: 化學系
A61: 46081 | B61: =A61 -> 46081 | G61: 化學系 | H61: 化學系 | I61: 化學系 | J61: 化學系
A62: 46082 | B62: =A62 -> 46082 | G62: 化學系 | H62: 化學系 | I62: 化學系 | J62: 化學系
A63: 46083 | B63: =A63 -> 46083 | G63: 化學系 | H63: 化學系 | I63: 化學系 | J63: 化學系
A64: 46084 | B64: =A64 -> 46084 | G64: 化學系 | H64: 化學系 | I64: 化學系 | J64: 化學系
A65: 46085 | B65: =A65 -> 46085 | G65: 化學系 | H65: 化學系 | I65: 化學系 | J65: 化學系
A66: 46086 | B66: =A66 -> 46086 | G66: 化學系 | H66: 化學系 | I66: 化學系 | J66: 化學系
A67: 46087 | B67: =A67 -> 46087 | G67: 化學系 | H67: 化學系 | I67: 化學系 | J67: 化學系
A68: 46088 | B68: =A68 -> 46088 | G68: 化學系 | H68: 化學系 | I68: 化學系 | J68: 化學系
A69: 46089 | B69: =A69 -> 46089 | G69: 化學系 | H69: 化學系 | I69: 化學系 | J69: 化學系
A70: 46090 | B70: =A70 -> 46090 | G70: 化學系 | H70: 化學系 | I70: 化學系 | J70: 化學系
A71: 46091 | B71: =A71 -> 46091
A72: 46092 | B72: =A72 -> 46092
A73: 46093 | B73: =A73 -> 46093
A74: 46094 | B74: =A74 -> 46094
A75: 46095 | B75: =A75 -> 46095
A76: 46096 | B76: =A76 -> 46096
A77: 46097 | B77: =A77 -> 46097
A78: 46098 | B78: =A78 -> 46098
A79: 46099 | B79: =A79 -> 46099
A80: 46100 | B80: =A80 -> 46100
A81: 46101 | B81: =A81 -> 46101
A82: 46102 | B82: =A82 -> 46102
... A93: 46113 | B93: =A93 -> 46113
...

Sheet B區
A1: =A區!A1 -> 租借情形 | Z1: 近期更新 之日期 | AA1: 查詢下2個月 | AB1: 下3個月 | AC1: 下4個月
A2: 日期 | B2: 星期 | C2: B1 | D2: B2 | E2: B3 | F2: B4 | G2: B5 | H2: B6 | I2: B7(測速器) | J2: B8 | K2: B9 | L2: B10 | M2: B11(測速器) | N2: B12 | O2: B13(無法懸掛) | P2: B14 | Q2: B14-1 | R2: B14-2 | S2: B15 | T2: B15-1 | U2: B16 | V2: B17 | W2: B17-1 | X2: B18 | Y2: B18-1 | Z2: =TODAY() -> 46315 | AA2: 查詢下個月 | AB2: 返回開頭
A3: 46023 | B3: =A3 -> 46023
A4: 46024 | B4: =A4 -> 46024
A5: 46025 | B5: =A5 -> 46025
A6: 46026 | B6: =A6 -> 46026
A7: 46027 | B7: =A7 -> 46027
A8: 46028 | B8: =A8 -> 46028
A9: 46029 | B9: =A9 -> 46029
A10: 46030 | B10: =A10 -> 46030
A11: 46031 | B11: =A11 -> 46031
A12: 46032 | B12: =A12 -> 46032
A13: 46033 | B13: =A13 -> 46033
A14: 46034 | B14: =A14 -> 46034 | D14: 前瞻 | E14: 前瞻 | G14: 前瞻 | H14: 前瞻 | K14: 前瞻 | N14: 前瞻 | P14: 前瞻
A15: 46035 | B15: =A15 -> 46035 | D15: 前瞻 | E15: 前瞻 | G15: 前瞻 | H15: 前瞻 | K15: 前瞻 | N15: 前瞻 | P15: 前瞻
A16: 46036 | B16: =A16 -> 46036 | D16: 前瞻 | E16: 前瞻 | G16: 前瞻 | H16: 前瞻 | K16: 前瞻 | N16: 前瞻 | P16: 前瞻
A17: 46037 | B17: =A17 -> 46037 | D17: 前瞻 | E17: 前瞻 | G17: 前瞻 | H17: 前瞻 | K17: 前瞻 | N17: 前瞻 | P17: 前瞻
A18: 46038 | B18: =A18 -> 46038 | D18: 前瞻 | E18: 前瞻 | G18: 前瞻 | H18: 前瞻 | K18: 前瞻 | N18: 前瞻 | P18: 前瞻
A19: 46039 | B19: =A19 -> 46039 | D19: 前瞻 | E19: 前瞻 | G19: 前瞻 | H19: 前瞻 | K19: 前瞻 | N19: 前瞻 | P19: 前瞻
A20: 46040 | B20: =A20 -> 46040 | D20: 前瞻 | E20: 前瞻 | G20: 前瞻 | H20: 前瞻 | K20: 前瞻 | N20: 前瞻 | P20: 前瞻
A21: 46041 | B21: =A21 -> 46041 | D21: 前瞻 | E21: 前瞻 | G21: 前瞻 | H21: 前瞻 | K21: 前瞻 | N21: 前瞻 | P21: 前瞻
A22: 46042 | B22: =A22 -> 46042 | D22: 前瞻 | E22: 前瞻 | G22: 前瞻 | H22: 前瞻 | K22: 前瞻 | N22: 前瞻 | P22: 前瞻
A23: 46043 | B23: =A23 -> 46043 | F23: 秘書室 | H23: 秘書室 | J23: 秘書室 | N23: 秘書室
A24: 46044 | B24: =A24 -> 46044 | F24: 秘書室 | H24: 秘書室 | J24: 秘書室 | N24: 秘書室 | S24: 秘書室
A25: 46045 | B25: =A25 -> 46045 | F25: 秘書室 | H25: 秘書室 | J25: 秘書室 | N25: 秘書室 | S25: 秘書室
A26: 46046 | B26: =A26 -> 46046 | F26: 秘書室 | H26: 秘書室 | J26: 秘書室 | N26: 秘書室 | S26: 秘書室
A27: 46047 | B27: =A27 -> 46047 | F27: 秘書室 | H27: 秘書室 | J27: 秘書室 | N27: 秘書室 | S27: 秘書室
A28: 46048 | B28: =A28 -> 46048 | F28: 秘書室 | H28: 秘書室 | J28: 秘書室 | N28: 秘書室 | S28: 秘書室
A29: 46049 | B29: =A29 -> 46049 | F29: 秘書室 | H29: 秘書室 | J29: 秘書室 | N29: 秘書室 | S29: 秘書室
A30: 46050 | B30: =A30 -> 46050
A31: 46051 | B31: =A31 -> 46051
A32: 46052 | B32: =A32 -> 46052
A33: 46053 | B33: =A33 -> 46053
A34: 46054 | B34: =A34 -> 46054
A35: 46055 | B35: =A35 -> 46055
A36: 46056 | B36: =A36 -> 46056
A37: 46057 | B37: =A37 -> 46057
A38: 46058 | B38: =A38 -> 46058
A39: 46059 | B39: =A39 -> 46059
A40: 46060 | B40: =A40 -> 46060
...

Sheet C區
A1: =A區!A1 -> 租借情形 | M1: 近期更新之日期 | N1: 查詢下2個月 | O1: 下3個月 | P1: 下4個月
A2: 日期 | B2: 星期 | C2: C1 | D2: C2 | E2: C3 | F2: C4 | G2: C5 | H2: C6 | I2: C7 | J2: C8 | K2: C9 | L2: C10 | M2: =TODAY() -> 46315 | N2: 查詢下個月 | O2: 返回開頭
A3: 46023 | B3: =A3 -> 46023
A4: 46024 | B4: =A4 -> 46024
A5: 46025 | B5: =A5 -> 46025
A6: 46026 | B6: =A6 -> 46026
A7: 46027 | B7: =A7 -> 46027
A8: 46028 | B8: =A8 -> 46028
A9: 46029 | B9: =A9 -> 46029
A10: 46030 | B10: =A10 -> 46030
A11: 46031 | B11: =A11 -> 46031
A12: 46032 | B12: =A12 -> 46032
A13: 46033 | B13: =A13 -> 46033
A14: 46034 | B14: =A14 -> 46034
... A279: 46299 | B279: =A279 -> 46299
A280: 46300 | B280: =A280 -> 46300 | C280: 體育室 | F280: 體育室
A281: 46301 | B281: =A281 -> 46301 | C281: 體育室 | F281: 體育室
A282: 46302 | B282: =A282 -> 46302 | C282: 體育室 | F282: 體育室
A283: 46303 | B283: =A283 -> 46303 | C283: 體育室 | F283: 體育室
A284: 46304 | B284: =A284 -> 46304 | C284: 體育室 | F284: 體育室
A285: 46305 | B285: =A285 -> 46305 | C285: 體育室 | F285: 體育室
A286: 46306 | B286: =A286 -> 46306 | C286: 體育室 | F286: 體育室
A287: 46307 | B287: =A287 -> 46307 | C287: 體育室 | F287: 體育室
A288: 46308 | B288: =A288 -> 46308 | C288: 體育室 | F288: 體育室
A289: 46309 | B289: =A289 -> 46309 | C289: 體育室 | F289: 體育室
A290: 46310 | B290: =A290 -> 46310 | C290: 體育室 | F290: 體育室
A291: 46311 | B291: =A291 -> 46311 | C291: 體育室 | F291: 體育室
... A303: 46323 | B303: =A303 -> 46323 | C303: 體育室 | F303: 體育室
A304: 46324 | B304: =A304 -> 46324 | C304: 體育室 | F304: 體育室 | G304: 化學系 | H304: 化學系 | I304: 化學系 | J304: 化學系
A305: 46325 | B305: =A305 -> 46325 | C305: 體育室 | F305: 體育室 | G305: 化學系 | H305: 化學系 | I305: 化學系 | J305: 化學系
A306: 46326 | B306: =A306 -> 46326 | C306: 體育室 | F306: 體育室 | G306: 化學系 | H306: 化學系 | I306: 化學系 | J306: 化學系
A307: 46327 | B307: =A307 -> 46327 | C307: 體育室 | F307: 體育室 | G307: 化學系 | H307: 化學系 | I307: 化學系 | J307: 化學系
A308: 46328 | B308: =A308 -> 46328 | G308: 化學系 | H308: 化學系 | I308: 化學系 | J308: 化學系
A309: 46329 | B309: =A309 -> 46329 | C309: 園藝系 | F309: 園藝系
A310: 46330 | B310: =A310 -> 46330 | C310: 園藝系 | F310: 園藝系
A311: 46331 | B311: =A311 -> 46331 | C311: 園藝系 | F311: 園藝系
A312: 46332 | B312: =A312 -> 46332 | C312: 園藝系 | F312: 園藝系
A313: 46333 | B313: =A313 -> 46333 | C313: 園藝系 | F313: 園藝系
A314: 46334 | B314: =A314 -> 46334 | C314: 園藝系 | F314: 園藝系
A315: 46335 | B315: =A315 -> 46335 | C315: 園藝系 | F315: 園藝系
...

Sheet D區
A1: =A區!A1 -> 租借情形 | N1: 近期更新之日期 | O1: 查詢下2個月 | P1: 下3個月 | Q1: 下4個月
A2: 日期 | B2: 星期 | C2: D1 | D2: D2 | E2: D3 | F2: D4 | G2: D5 | H2: D6 | I2: D7 | J2: D8 | K2: D9 | L2: D10 | M2: D11 | N2: =TODAY() -> 46315 | O2: 查詢下個月 | P2: 返回開頭
A3: 46023 | B3: =A3 -> 46023
A4: 46024 | B4: =A4 -> 46024
A5: 46025 | B5: =A5 -> 46025
A6: 46026 | B6: =A6 -> 46026
A7: 46027 | B7: =A7 -> 46027
A8: 46028 | B8: =A8 -> 46028
A9: 46029 | B9: =A9 -> 46029
A10: 46030 | B10: =A10 -> 46030
A11: 46031 | B11: =A11 -> 46031
A12: 46032 | B12: =A12 -> 46032
A13: 46033 | B13: =A13 -> 46033
A14: 46034 | B14: =A14 -> 46034
... A98: 46118 | B98: =A98 -> 46118
A99: 46119 | B99: =A99 -> 46119 | D99: 動科 | F99: 動科
A100: 46120 | B100: =A100 -> 46120 | D100: 動科 | F100: 動科
A101: 46121 | B101: =A101 -> 46121 | D101: 動科 | F101: 動科
A102: 46122 | B102: =A102 -> 46122 | D102: 動科 | F102: 動科
A103: 46123 | B103: =A103 -> 46123 | D103: 動科 | F103: 動科
A104: 46124 | B104: =A104 -> 46124 | D104: 動科 | F104: 動科
A105: 46125 | B105: =A105 -> 46125 | C105: 土環 | D105: 動科 | E105: 土環 | F105: 動科
A106: 46126 | B106: =A106 -> 46126 | C106: 土環 | D106: 動科 | E106: 土環 | F106: 動科
A107: 46127 | B107: =A107 -> 46127 | C107: 土環 | D107: 動科 | E107: 土環 | F107: 動科
A108: 46128 | B108: =A108 -> 46128 | C108: 土環 | D108: 動科 | E108: 土環 | F108: 動科
A109: 46129 | B109: =A109 -> 46129 | C109: 土環 | D109: 動科 | E109: 土環 | F109: 動科
A110: 46130 | B110: =A110 -> 46130 | C110: 土環 | D110: 動科 | E110: 土環 | F110: 動科
A111: 46131 | B111: =A111 -> 46131 | C111: 土環 | D111: 動科 | E111: 土環 | F111: 動科
A112: 46132 | B112: =A112 -> 46132 | C112: 土環 | D112: 動科 | E112: 土環 | F112: 動科
A113: 46133 | B113: =A113 -> 46133 | C113: 土環 | D113: 動科 | E113: 土環 | F113: 動科
A114: 46134 | B114: =A114 -> 46134 | C114: 土環 | D114: 動科 | E114: 土環 | F114: 動科
A115: 46135 | B115: =A115 -> 46135 | C115: 土環 | D115: 動科 | E115: 土環 | F115: 動科
A116: 46136 | B116: =A116 -> 46136 | C116: 土環 | D116: 動科 | E116: 土環 | F116: 動科
... A119: 46139 | B119: =A119 -> 46139 | C119: 土環 | D119: 動科 | E119: 土環 | F119: 動科
A120: 46140 | B120: =A120 -> 46140 | C120: 土環 | E120: 土環
A121: 46141 | B121: =A121 -> 46141 | C121: 土環 | E121: 土環
A122: 46142 | B122: =A122 -> 46142 | C122: 土環 | E122: 土環
A123: 46143 | B123: =A123 -> 46143 | C123: 土環 | E123: 土環
A124: 46144 | B124: =A124 -> 46144 | C124: 土環 | E124: 土環
A125: 46145 | B125: =A125 -> 46145
...

Sheet E區
A1: =A區!A1 -> 租借情形 | L1: 近期更新之日期 | M1: 查詢下2個月 | N1: 下3個月 | O1: 下4個月
A2: 日期 | B2: 星期 | C2: E1(無法懸掛) | D2: E2 | E2: E3 | F2: E4(裁撤) | G2: E5 | H2: E6 | I2: E7 | J2: E8 | K2: E9(裁撤) | L2: =TODAY() -> 46315 | M2: 查詢下個月 | N2: 返回開頭
A3: 46023 | B3: =A3 -> 46023
A4: 46024 | B4: =A4 -> 46024
A5: 46025 | B5: =A5 -> 46025
A6: 46026 | B6: =A6 -> 46026
A7: 46027 | B7: =A7 -> 46027
A8: 46028 | B8: =A8 -> 46028
A9: 46029 | B9: =A9 -> 46029
A10: 46030 | B10: =A10 -> 46030
A11: 46031 | B11: =A11 -> 46031
A12: 46032 | B12: =A12 -> 46032
A13: 46033 | B13: =A13 -> 46033
A14: 46034 | B14: =A14 -> 46034
... A98: 46118 | B98: =A98 -> 46118
A99: 46119 | B99: =A99 -> 46119 | D99: 動科 | H99: 動科 | J99: 動科
A100: 46120 | B100: =A100 -> 46120 | D100: 動科 | H100: 動科 | J100: 動科
A101: 46121 | B101: =A101 -> 46121 | D101: 動科 | H101: 動科 | J101: 動科
A102: 46122 | B102: =A102 -> 46122 | D102: 動科 | H102: 動科 | J102: 動科
A103: 46123 | B103: =A103 -> 46123 | D103: 動科 | H103: 動科 | J103: 動科
A104: 46124 | B104: =A104 -> 46124 | D104: 動科 | H104: 動科 | J104: 動科
A105: 46125 | B105: =A105 -> 46125 | D105: 動科 | H105: 動科 | J105: 動科
A106: 46126 | B106: =A106 -> 46126 | D106: 動科 | H106: 動科 | J106: 動科
A107: 46127 | B107: =A107 -> 46127 | D107: 動科 | H107: 動科 | J107: 動科
A108: 46128 | B108: =A108 -> 46128 | D108: 動科 | H108: 動科 | J108: 動科
A109: 46129 | B109: =A109 -> 46129 | D109: 動科 | H109: 動科 | J109: 動科
A110: 46130 | B110: =A110 -> 46130 | D110: 動科 | H110: 動科 | J110: 動科
... A113: 46133 | B113: =A113 -> 46133 | D113: 動科 | H113: 動科 | J113: 動科
A114: 46134 | B114: =A114 -> 46134 | D114: 動科 | G114: 市府 | H114: 動科 | I114: 市府 | J114: 動科
A115: 46135 | B115: =A115 -> 46135 | D115: 動科 | G115: 市府 | H115: 動科 | I115: 市府 | J115: 動科
A116: 46136 | B116: =A116 -> 46136 | D116: 動科 | G116: 市府 | H116: 動科 | I116: 市府 | J116: 動科
A117: 46137 | B117: =A117 -> 46137 | D117: 動科 | G117: 市府 | H117: 動科 | I117: 市府 | J117: 動科
A118: 46138 | B118: =A118 -> 46138 | D118: 動科 | H118: 動科 | J118: 動科
A119: 46139 | B119: =A119 -> 46139 | D119: 動科 | H119: 動科 | J119: 動科
A120: 46140 | B120: =A120 -> 46140
A121: 46141 | B121: =A121 -> 46141
A122: 46142 | B122: =A122 -> 46142
A123: 46143 | B123: =A123 -> 46143
A124: 46144 | B124: =A124 -> 46144
A125: 46145 | B125: =A125 -> 46145 | G125: 水保 | I125: 水保
...

Sheet F區
A1: =A區!A1 -> 租借情形 | P1: 近期更新之日期 | Q1: 查詢下2個月 | R1: 下3個月 | S1: 下4個月
A2: 日期 | B2: 星期 | C2: F1 | D2: F2 | E2: F3 | F2: F4 | G2: F5 | H2: F6 | I2: F7 | J2: F8 | K2: F9 | L2: F10 | M2: F11 | N2: F12 | O2: F13 | P2: =TODAY() -> 46315 | Q2: 查詢下個月 | R2: 返回開頭
A3: 46023 | B3: =A3 -> 46023
A4: 46024 | B4: =A4 -> 46024
A5: 46025 | B5: =A5 -> 46025
A6: 46026 | B6: =A6 -> 46026
A7: 46027 | B7: =A7 -> 46027
A8: 46028 | B8: =A8 -> 46028
A9: 46029 | B9: =A9 -> 46029
A10: 46030 | B10: =A10 -> 46030
A11: 46031 | B11: =A11 -> 46031
A12: 46032 | B12: =A12 -> 46032
A13: 46033 | B13: =A13 -> 46033
A14: 46034 | B14: =A14 -> 46034
... A58: 46078 | B58: =A58 -> 46078
A59: 46079 | B59: =A59 -> 46079 | G59: 化學系 | H59: 化學系 | I59: 化學系 | J59: 化學系 | K59: 化學系 | L59: 化學系
A60: 46080 | B60: =A60 -> 46080 | G60: 化學系 | H60: 化學系 | I60: 化學系 | J60: 化學系 | K60: 化學系 | L60: 化學系
A61: 46081 | B61: =A61 -> 46081 | G61: 化學系 | H61: 化學系 | I61: 化學系 | J61: 化學系 | K61: 化學系 | L61: 化學系
A62: 46082 | B62: =A62 -> 46082 | G62: 化學系 | H62: 化學系 | I62: 化學系 | J62: 化學系 | K62: 化學系 | L62: 化學系
A63: 46083 | B63: =A63 -> 46083 | G63: 化學系 | H63: 化學系 | I63: 化學系 | J63: 化學系 | K63: 化學系 | L63: 化學系
A64: 46084 | B64: =A64 -> 46084 | G64: 化學系 | H64: 化學系 | I64: 化學系 | J64: 化學系 | K64: 化學系 | L64: 化學系
A65: 46085 | B65: =A65 -> 46085 | G65: 化學系 | H65: 化學系 | I65: 化學系 | J65: 化學系 | K65: 化學系 | L65: 化學系
A66: 46086 | B66: =A66 -> 46086 | G66: 化學系 | H66: 化學系 | I66: 化學系 | J66: 化學系 | K66: 化學系 | L66: 化學系
A67: 46087 | B67: =A67 -> 46087 | G67: 化學系 | H67: 化學系 | I67: 化學系 | J67: 化學系 | K67: 化學系 | L67: 化學系
A68: 46088 | B68: =A68 -> 46088 | G68: 化學系 | H68: 化學系 | I68: 化學系 | J68: 化學系 | K68: 化學系 | L68: 化學系
A69: 46089 | B69: =A69 -> 46089 | G69: 化學系 | H69: 化學系 | I69: 化學系 | J69: 化學系 | K69: 化學系 | L69: 化學系
A70: 46090 | B70: =A70 -> 46090 | G70: 化學系 | H70: 化學系 | I70: 化學系 | J70: 化學系 | K70: 化學系 | L70: 化學系
A71: 46091 | B71: =A71 -> 46091
A72: 46092 | B72: =A72 -> 46092
A73: 46093 | B73: =A73 -> 46093
A74: 46094 | B74: =A74 -> 46094
A75: 46095 | B75: =A75 -> 46095
A76: 46096 | B76: =A76 -> 46096
A77: 46097 | B77: =A77 -> 46097
A78: 46098 | B78: =A78 -> 46098
A79: 46099 | B79: =A79 -> 46099
A80: 46100 | B80: =A80 -> 46100
A81: 46101 | B81: =A81 -> 46101
A82: 46102 | B82: =A82 -> 46102
... A124: 46144 | B124: =A124 -> 46144
...

Sheet G區
A1: =A區!A1 -> 租借情形 | T1: 近期更新之日期 | U1: 查詢下2個月 | V1: 下3個月 | W1: 下4個月
A2: 日期 | B2: 星期 | C2: G1 | D2: G2 | E2: G3 | F2: G4 | G2: G5 | H2: G6 | I2: G7 | J2: G8 | K2: G9 | L2: G10 | M2: G11 | N2: G12 | O2: G12-1 | P2: G13 | Q2: G14(不明顯) | R2: G15(不明顯) | S2: G16(不明顯) | T2: =TODAY() -> 46315 | U2: 查詢下個月 | V2: 返回開頭
A3: 46023 | B3: =A3 -> 46023
A4: 46024 | B4: =A4 -> 46024
A5: 46025 | B5: =A5 -> 46025
A6: 46026 | B6: =A6 -> 46026
A7: 46027 | B7: =A7 -> 46027
A8: 46028 | B8: =A8 -> 46028
A9: 46029 | B9: =A9 -> 46029
A10: 46030 | B10: =A10 -> 46030
A11: 46031 | B11: =A11 -> 46031
A12: 46032 | B12: =A12 -> 46032
A13: 46033 | B13: =A13 -> 46033
A14: 46034 | B14: =A14 -> 46034
... A58: 46078 | B58: =A58 -> 46078
A59: 46079 | B59: =A59 -> 46079 | L59: 化學系 | M59: 化學系 | N59: 化學系
A60: 46080 | B60: =A60 -> 46080 | L60: 化學系 | M60: 化學系 | N60: 化學系
A61: 46081 | B61: =A61 -> 46081 | L61: 化學系 | M61: 化學系 | N61: 化學系
A62: 46082 | B62: =A62 -> 46082 | L62: 化學系 | M62: 化學系 | N62: 化學系
A63: 46083 | B63: =A63 -> 46083 | L63: 化學系 | M63: 化學系 | N63: 化學系
A64: 46084 | B64: =A64 -> 46084 | L64: 化學系 | M64: 化學系 | N64: 化學系
A65: 46085 | B65: =A65 -> 46085 | L65: 化學系 | M65: 化學系 | N65: 化學系
A66: 46086 | B66: =A66 -> 46086 | L66: 化學系 | M66: 化學系 | N66: 化學系
A67: 46087 | B67: =A67 -> 46087 | L67: 化學系 | M67: 化學系 | N67: 化學系
A68: 46088 | B68: =A68 -> 46088 | L68: 化學系 | M68: 化學系 | N68: 化學系
A69: 46089 | B69: =A69 -> 46089 | L69: 化學系 | M69: 化學系 | N69: 化學系
A70: 46090 | B70: =A70 -> 46090 | L70: 化學系 | M70: 化學系 | N70: 化學系
A71: 46091 | B71: =A71 -> 46091
A72: 46092 | B72: =A72 -> 46092
A73: 46093 | B73: =A73 -> 46093
A74: 46094 | B74: =A74 -> 46094
A75: 46095 | B75: =A75 -> 46095
A76: 46096 | B76: =A76 -> 46096
A77: 46097 | B77: =A77 -> 46097
A78: 46098 | B78: =A78 -> 46098
A79: 46099 | B79: =A79 -> 46099
A80: 46100 | B80: =A80 -> 46100
A81: 46101 | B81: =A81 -> 46101
A82: 46102 | B82: =A82 -> 46102
... A98: 46118 | B98: =A98 -> 46118
...

Sheet H區
A1: =A區!A1 -> 租借情形 | S1: 近期更新之日期 | T1: 查詢下2個月 | U1: 下3個月 | V1: 下4個月
A2: 日期 | B2: 星期 | C2: H1 | D2: H2 | E2: H3 | F2: H4 | G2: H5 | H2: H6 | I2: H7 | J2: H8 | K2: H9 | L2: H10 | M2: H11 | N2: H12 | O2: H13 | P2: H14 | Q2: H15 | R2: H16 | S2: =TODAY() -> 46315 | T2: 查詢下個月 | U2: 返回開頭
A3: 46023 | B3: =A3 -> 46023
A4: 46024 | B4: =A4 -> 46024
A5: 46025 | B5: =A5 -> 46025
A6: 46026 | B6: =A6 -> 46026
A7: 46027 | B7: =A7 -> 46027
A8: 46028 | B8: =A8 -> 46028
A9: 46029 | B9: =A9 -> 46029
A10: 46030 | B10: =A10 -> 46030
A11: 46031 | B11: =A11 -> 46031
A12: 46032 | B12: =A12 -> 46032
A13: 46033 | B13: =A13 -> 46033
A14: 46034 | B14: =A14 -> 46034
... A70: 46090 | B70: =A70 -> 46090
A71: 46091 | B71: =A71 -> 46091 | F71: 生發 | H71: 生發 | J71: 生發 | L71: 生發 | M71: 生發 | O71: 生發 | Q71: 生發
A72: 46092 | B72: =A72 -> 46092 | F72: 生發 | H72: 生發 | J72: 生發 | L72: 生發 | M72: 生發 | O72: 生發 | Q72: 生發
A73: 46093 | B73: =A73 -> 46093 | F73: 生發 | H73: 生發 | J73: 生發 | L73: 生發 | M73: 生發 | O73: 生發 | Q73: 生發
A74: 46094 | B74: =A74 -> 46094 | F74: 生發 | H74: 生發 | J74: 生發 | L74: 生發 | M74: 生發 | O74: 生發 | Q74: 生發
A75: 46095 | B75: =A75 -> 46095 | F75: 生發 | H75: 生發 | J75: 生發 | L75: 生發 | M75: 生發 | O75: 生發 | Q75: 生發
A76: 46096 | B76: =A76 -> 46096 | F76: 生發 | H76: 生發 | J76: 生發 | L76: 生發 | M76: 生發 | O76: 生發 | Q76: 生發
A77: 46097 | B77: =A77 -> 46097 | F77: 生發 | H77: 生發 | J77: 生發 | L77: 生發 | M77: 生發 | O77: 生發 | Q77: 生發
A78: 46098 | B78: =A78 -> 46098 | F78: 生發 | H78: 生發 | J78: 生發 | L78: 生發 | M78: 生發 | O78: 生發 | Q78: 生發
A79: 46099 | B79: =A79 -> 46099 | F79: 生發 | H79: 生發 | J79: 生發 | L79: 生發 | M79: 生發 | O79: 生發 | Q79: 生發
A80: 46100 | B80: =A80 -> 46100 | F80: 生發 | H80: 生發 | J80: 生發 | L80: 生發 | M80: 生發 | O80: 生發 | Q80: 生發
A81: 46101 | B81: =A81 -> 46101 | F81: 生發 | H81: 生發 | J81: 生發 | L81: 生發 | M81: 生發 | O81: 生發 | Q81: 生發
A82: 46102 | B82: =A82 -> 46102 | F82: 生發 | H82: 生發 | J82: 生發 | L82: 生發 | M82: 生發 | O82: 生發 | Q82: 生發
... A84: 46104 | B84: =A84 -> 46104 | F84: 生發 | H84: 生發 | J84: 生發 | L84: 生發 | M84: 生發 | O84: 生發 | Q84: 生發
A85: 46105 | B85: =A85 -> 46105
A86: 46106 | B86: =A86 -> 46106
A87: 46107 | B87: =A87 -> 46107
A88: 46108 | B88: =A88 -> 46108
A89: 46109 | B89: =A89 -> 46109
A90: 46110 | B90: =A90 -> 46110
A91: 46111 | B91: =A91 -> 46111
A92: 46112 | B92: =A92 -> 46112
A93: 46113 | B93: =A93 -> 46113
A94: 46114 | B94: =A94 -> 46114 | D94: 動科 | E94: 動科
A95: 46115 | B95: =A95 -> 46115 | D95: 動科 | E95: 動科
A96: 46116 | B96: =A96 -> 46116 | D96: 動科 | E96: 動科
...
